BEGIN:VCALENDAR
VERSION:2.0
PRODID:-//ChamberMaster//Event Calendar 2.0//EN
METHOD:PUBLISH
X-PUBLISHED-TTL:P3D
REFRESH-INTERVAL:P3D
CALSCALE:GREGORIAN
BEGIN:VEVENT
DTSTART:20231117T190000Z
DTEND:20231117T210000Z
X-MICROSOFT-CDO-ALLDAYEVENT:FALSE
SUMMARY:2023: Workshop: HR Training
DESCRIPTION:The Estes Park Economic Development Corporation (EDC) and Estes Chamber are partnering to bring in an HR professional to educate businesses about 2023 compliance updates. Jeannie Valliere\, SHRM-CP\, PHR\, HRx Principal will provide attendees with a brief recap of legislative updates from 2023 as they impact employment law and discuss upcoming changes for 2024. It gives attendees basic information about what may be helpful as they prepare annual handbook updates.
X-ALT-DESC;FMTTYPE=text/html:The Estes Park Economic Development Corporation (EDC) and Estes Chamber are partnering to bring in an HR professional to educate businesses about 2023 compliance updates.&nbsp\;Jeannie Valliere\, SHRM-CP\, PHR\, HRx Principal will&nbsp\;provide attendees with a brief recap of legislative updates from 2023 as they impact employment law and discuss upcoming changes for 2024. It gives attendees basic information about what may be helpful as they prepare annual handbook updates.
LOCATION:
UID:e.3592.8910
SEQUENCE:3
DTSTAMP:20260423T031515Z
URL:https://business.esteschamber.org/events/details/2023-workshop-hr-training-8910
END:VEVENT

END:VCALENDAR
