BEGIN:VCALENDAR
VERSION:2.0
PRODID:-//ChamberMaster//Event Calendar 2.0//EN
METHOD:PUBLISH
X-PUBLISHED-TTL:P3D
REFRESH-INTERVAL:P3D
CALSCALE:GREGORIAN
BEGIN:VEVENT
DTSTART:20241211T153000Z
DTEND:20241211T170000Z
X-MICROSOFT-CDO-ALLDAYEVENT:FALSE
SUMMARY:2024 Discussion Group - How do I use social media to help my business. 12.11.24
DESCRIPTION:The Chamber board has been asking members what additional services the Chamber could provide that would be of value to the membership. From that discussion\, multiple member business owners said that they would appreciate small discussion groups to talk through issues that we all have in common\, and brainstorm for solutions. To that end\, we have scheduled three discussion groups centered around topics common to all of us. The third topic is "How Can I Use Social Media To Help My Business". \nThis discussion group invites local business owners and managers to share effective social media tactics that have boosted their visibility\, engagement\, and sales. In an era where social media is vital for brand presence\, this session focuses on practical\, real-world examples of strategies that work\, from content creation to audience engagement.\nA discussion where attendees can ask questions\, swap stories\, and brainstorm ways to refine their social media strategies together.
X-ALT-DESC;FMTTYPE=text/html:<span style="color: rgb(36\, 36\, 36)\;">The Chamber board has been asking members what additional services the Chamber could provide that would be of value to the membership. From that discussion\, multiple member business owners said that they would appreciate small discussion groups to talk through issues that we all have in common\, and brainstorm for solutions. To that end\, we</span><span style="border: 0px\; font-variant-numeric: inherit\; font-variant-east-asian: inherit\; font-variant-alternates: inherit\; font-variant-position: inherit\; font-stretch: inherit\; line-height: inherit\; font-optical-sizing: inherit\; font-size-adjust: inherit\; font-kerning: inherit\; font-feature-settings: inherit\; font-variation-settings: inherit\; margin: 0px\; padding: 0px\; vertical-align: baseline\; color: rgb(36\, 36\, 36)\;">&nbsp\;have scheduled three discussion groups<span style="border: 0px\; font-style: inherit\; font-variant: inherit\; font-weight: inherit\; font-stretch: inherit\; line-height: inherit\; font-optical-sizing: inherit\; font-size-adjust: inherit\; font-kerning: inherit\; font-feature-settings: inherit\; font-variation-settings: inherit\; margin: 0px\; padding: 0px\; vertical-align: baseline\; color: inherit\;">&nbsp\;centered around topics common to all of us. The third topic is &quot\;How Can I Use Social Media To Help My Business&quot\;.&nbsp\;</span></span>\n<div style="font-size:12pt\;font-family:Aptos\, sans-serif\;color:rgb(0\, 0\, 0)\;"><span style="font-size:14px\;"><span style="font-family:arial\;">This discussion group invites local business owners and managers to share effective social media tactics that have boosted their visibility\, engagement\, and sales. In an era where social media is vital for brand presence\, this session focuses on practical\, real-world examples of strategies that work\, from content creation to audience engagement.</span></span></div>\n<span style="font-size:14px\;"><span style="font-family:arial\;">A discussion where attendees can ask questions\, swap stories\, and brainstorm ways to refine their social media strategies together.</span></span><br />\n<br />\n&nbsp\;
LOCATION:You Need Pie Diner & Bakery 509 Big Thompson Estes Park
UID:e.3592.10272
SEQUENCE:3
DTSTAMP:20260420T230951Z
URL:https://business.esteschamber.org/events/details/2024-discussion-group-how-do-i-use-social-media-to-help-my-business-12-11-24-10272
END:VEVENT

END:VCALENDAR
