BEGIN:VCALENDAR
VERSION:2.0
PRODID:-//ChamberMaster//Event Calendar 2.0//EN
METHOD:PUBLISH
X-PUBLISHED-TTL:P3D
REFRESH-INTERVAL:P3D
CALSCALE:GREGORIAN
BEGIN:VEVENT
DTSTART:20241202T230000Z
DTEND:20241203T003000Z
X-MICROSOFT-CDO-ALLDAYEVENT:FALSE
SUMMARY:2024 Discussion Group - How to gain and keep local business 12.2.24
DESCRIPTION:The Chamber board has been asking members what additional services the Chamber could provide that would be of value to the membership. From that discussion\, multiple member business owners said that they would appreciate small discussion groups to talk through issues that we all have in common\, and brainstorm for solutions. To that end\, we have scheduled three discussion groups centered around topics common to all of us. The second topic is Gaining Local Business and will be held at Avant Garde Aleworks on 12/2 at 4:00pm. \nThis discussion group is designed for business owners who find it challenging to attract and retain local customers despite marketing efforts or high visitor interest. This collaborative session will include an open discussion where participants can share their specific challenges\, get feedback\, and brainstorm creative ways to tackle them with fellow business owners and managers.
X-ALT-DESC;FMTTYPE=text/html:<span style="font-size:14px\;"><span style="font-family:arial\;"><span style="color: rgb(36\, 36\, 36)\;">The Chamber board has been asking members what additional services the Chamber could provide that would be of value to the membership. From that discussion\, multiple member business owners said that they would appreciate small discussion groups to talk through issues that we all have in common\, and brainstorm for solutions. To that end\, we</span><span style="border: 0px\; font-variant-numeric: inherit\; font-variant-east-asian: inherit\; font-variant-alternates: inherit\; font-variant-position: inherit\; font-stretch: inherit\; line-height: inherit\; font-optical-sizing: inherit\; font-size-adjust: inherit\; font-kerning: inherit\; font-feature-settings: inherit\; font-variation-settings: inherit\; margin: 0px\; padding: 0px\; vertical-align: baseline\; color: rgb(36\, 36\, 36)\;">&nbsp\;have scheduled three discussion groups<span style="border: 0px\; font-style: inherit\; font-variant: inherit\; font-weight: inherit\; font-stretch: inherit\; line-height: inherit\; font-optical-sizing: inherit\; font-size-adjust: inherit\; font-kerning: inherit\; font-feature-settings: inherit\; font-variation-settings: inherit\; margin: 0px\; padding: 0px\; vertical-align: baseline\; color: inherit\;">&nbsp\;centered around topics common to all of us. The second topic is Gaining Local Business and will be held at Avant Garde Aleworks on 12/2 at 4:00pm.&nbsp\;</span></span></span></span>\n<div style="font-size:12pt\;font-family:Aptos\, sans-serif\;color:rgb(0\, 0\, 0)\;"><span style="font-size:14px\;"><span style="font-family:arial\;">This discussion group is designed for business owners who find it challenging to attract and retain local customers despite marketing efforts or high visitor interest. This collaborative session will include an open discussion where participants can share their specific challenges\, get feedback\, and brainstorm creative ways to tackle them with fellow business owners and managers.</span></span></div>\n
LOCATION:Location Change: Expedition Lodge Estes Park 1701 N Lake Ave\, Estes Park\, CO 80517 Estes Park
UID:e.3592.10271
SEQUENCE:3
DTSTAMP:20260421T002953Z
URL:https://business.esteschamber.org/events/details/2024-discussion-group-how-to-gain-and-keep-local-business-12-2-24-10271
END:VEVENT

END:VCALENDAR
