BEGIN:VCALENDAR
VERSION:2.0
PRODID:-//ChamberMaster//Event Calendar 2.0//EN
METHOD:PUBLISH
X-PUBLISHED-TTL:P3D
REFRESH-INTERVAL:P3D
CALSCALE:GREGORIAN
BEGIN:VEVENT
DTSTART:20241101T230000Z
DTEND:20241101T233000Z
X-MICROSOFT-CDO-ALLDAYEVENT:FALSE
SUMMARY:2024 Ribbon Cutting The Wellness Way
DESCRIPTION:We are a health restoration clinic solving a variety of problems patients have that are not available to them in other forms of healthcare. Our Estes Park location opened on Aug 1st with Dr. Jill Bodensteiner who has been providing wellness care in Estes Park since 2007 and Health Restoration Coach Chelsea Capener. We are helping with chronic conditions relating to: thyroid\, allergies\, food allergies\, autoimmune\, depression\, anxiety\, digestive issues\, joint and muscle pain\, hormonal issues\, sleep\, fatigue\, insomnia\, eczema\, psoriasis\, weight gain and so much more without the use of drugs or surgery.\n\nOpening Specials! Immune & Allergy lab panel give aways\, snacks & drinks
X-ALT-DESC;FMTTYPE=text/html:<font color="#000000" face="Times New Roman\, serif"><span style="font-size: 16px\; white-space-collapse: preserve\;">We are a health restoration clinic solving a variety of problems patients have that are not available to them in other forms of healthcare. Our Estes Park location opened on Aug 1st with Dr. Jill Bodensteiner who has been providing wellness care in Estes Park since 2007 and Health Restoration Coach Chelsea Capener. We are helping with chronic conditions relating to: thyroid\, allergies\, food allergies\, autoimmune\, depression\, anxiety\, digestive issues\, joint and muscle pain\, hormonal issues\, sleep\, fatigue\, insomnia\, eczema\, psoriasis\, weight gain and so much more without the use of drugs or surgery.<br />\nOpening Specials! Immune &amp\; Allergy lab panel give aways\, snacks &amp\; drinks</span></font>
LOCATION:521 S. St Vrain. Suite B. Estes Park\, CO 80517
UID:e.3592.10264
SEQUENCE:3
DTSTAMP:20260421T102606Z
URL:https://business.esteschamber.org/events/details/2024-ribbon-cutting-the-wellness-way-10264
END:VEVENT

END:VCALENDAR
