BEGIN:VCALENDAR
VERSION:2.0
PRODID:-//ChamberMaster//Event Calendar 2.0//EN
METHOD:PUBLISH
X-PUBLISHED-TTL:P3D
REFRESH-INTERVAL:P3D
CALSCALE:GREGORIAN
BEGIN:VEVENT
DTSTART:20250604T140000Z
DTEND:20250604T150000Z
X-MICROSOFT-CDO-ALLDAYEVENT:FALSE
SUMMARY:2025 Coffee Connections: Estes Park Condos
DESCRIPTION:Join us for June's Coffee Connection @ Estes Park Condos - Stop by on your way to work to enjoy a cup of coffee and a light snack to begin your day. We know the day gets crazy\, so start by connecting with other business professionals before you get to the office and lost in your emails.  This is a complimentary event\, your pre-registration helps us plan for the right amount of food.  \n\n\n\nPeople can park in front of the lodging office or immediately behind the event cabin.
X-ALT-DESC;FMTTYPE=text/html:Join us for June&#39\;s Coffee Connection @ Estes Park Condos - Stop by on your way to work to enjoy a cup of coffee and a light snack to begin your day. We know the day gets crazy\, so start by connecting with other business professionals before you get to the office and lost in your emails.&nbsp\; This is a complimentary event\, your pre-registration helps us plan for the right amount of food.&nbsp\;&nbsp\;<br />\n<br />\nPeople can park in front of the lodging office or immediately behind the event cabin.<br />\n<br />\n<br />\n<br />\n&nbsp\;
LOCATION:Estes Park Condos 1400 David Dr\, Estes Park\, CO 80517
UID:e.3592.12160
SEQUENCE:3
DTSTAMP:20260421T035542Z
URL:https://business.esteschamber.org/events/details/2025-coffee-connections-estes-park-condos-12160
END:VEVENT

END:VCALENDAR
