BEGIN:VCALENDAR
VERSION:2.0
PRODID:-//ChamberMaster//Event Calendar 2.0//EN
METHOD:PUBLISH
X-PUBLISHED-TTL:P3D
REFRESH-INTERVAL:P3D
CALSCALE:GREGORIAN
BEGIN:VEVENT
DTSTART:20250919T133000Z
DTEND:20250919T141500Z
X-MICROSOFT-CDO-ALLDAYEVENT:FALSE
SUMMARY:2025 Coffee Connections: Jazzercise
DESCRIPTION:Join us for September's Coffee Connection @ Jazzercise! Stop by on your way to work to enjoy a cup of coffee to begin your day. We know the day gets hectic\, so start by connecting with other business professionals before you get to the office and lost in your emails.  This is a complimentary event hosted by Jazzercise - your pre-registration helps us plan for the right amount of food.\n\n\n\nIn addition to coffee you are also invited to attend a complimentary class! Join us at 6AM for Cardio Sculpt or at 8:30AM for Vital Sculpt HIIT 60.\n\n\n\nThanks to Jazzercise for hosting!
X-ALT-DESC;FMTTYPE=text/html:Join us for September&#39\;s Coffee Connection @ Jazzercise! Stop by on your way to work to enjoy a cup of coffee to begin your day. We know the day gets hectic\, so start by connecting with other business professionals before you get to the office and lost in your emails.&nbsp\; This is a complimentary event hosted by Jazzercise - your pre-registration helps us plan for the right amount of food.<br />\n<br />\nIn addition to coffee you are also invited to attend a complimentary class! Join us at 6AM for Cardio Sculpt or at 8:30AM for Vital Sculpt HIIT 60.<br />\n<br />\nThanks to Jazzercise for hosting!&nbsp\;
LOCATION:Jazzercise Estes Park 600 S St Vrain Ave UNIT 201 Estes Park\, CO.
UID:e.3592.13414
SEQUENCE:3
DTSTAMP:20260421T065646Z
URL:https://business.esteschamber.org/events/details/2025-coffee-connections-jazzercise-13414
END:VEVENT

END:VCALENDAR
