BEGIN:VCALENDAR
VERSION:2.0
PRODID:-//ChamberMaster//Event Calendar 2.0//EN
METHOD:PUBLISH
X-PUBLISHED-TTL:P3D
REFRESH-INTERVAL:P3D
CALSCALE:GREGORIAN
BEGIN:VEVENT
DTSTART:20251112T143000Z
DTEND:20251112T153000Z
X-MICROSOFT-CDO-ALLDAYEVENT:FALSE
SUMMARY:2025 Coffee Connections: The Country Market
DESCRIPTION:Join us for November's Coffee Connection @ The Country Market! Stop by on your way to work to enjoy a cup of coffee or tea. We know the day gets hectic\, so start by connecting with other business professionals before you get to the office and lost in your emails.  This is a complimentary event hosted by The Country Market - your pre-registration helps us plan for the right amount of food.\n\n\n\nThanks to The Country Market for hosting!
X-ALT-DESC;FMTTYPE=text/html:Join us for November&#39\;s Coffee Connection @ The Country Market! Stop by on your way to work to enjoy a cup of coffee or tea. We know the day gets hectic\, so start by connecting with other business professionals before you get to the office and lost in your emails.&nbsp\; This is a complimentary event hosted by The Country Market - your pre-registration helps us plan for the right amount of food.<br />\n<br />\nThanks to The Country Market for hosting!&nbsp\;
LOCATION:The Country Market 900 Moraine Ave Estes Park\, CO.
UID:e.3592.13696
SEQUENCE:3
DTSTAMP:20260421T094805Z
URL:https://business.esteschamber.org/events/details/2025-coffee-connections-the-country-market-13696
END:VEVENT

END:VCALENDAR
