BEGIN:VCALENDAR
VERSION:2.0
PRODID:-//ChamberMaster//Event Calendar 2.0//EN
METHOD:PUBLISH
X-PUBLISHED-TTL:P3D
REFRESH-INTERVAL:P3D
CALSCALE:GREGORIAN
BEGIN:VEVENT
DTSTART:20250328T133000Z
DTEND:20250328T143000Z
X-MICROSOFT-CDO-ALLDAYEVENT:FALSE
SUMMARY:2025 Coffee Connections: The Spice Rack
DESCRIPTION:Join us for March's Coffee Connection @ The Spice Rack! Stop by on your way to work to enjoy a cup of coffee and a delicious fresh made pastry to begin your day. We know the day gets crazy\, so start by connecting with other business professionals before you get to the office and lost in your emails.  This is a complimentary event hosted by the Spice Rack - your pre-registration helps us plan for the right amount of food.  \n\n\n\nThanks to the Spice Rack for hosting!
X-ALT-DESC;FMTTYPE=text/html:Join us for March&#39\;s Coffee Connection @ The Spice Rack! Stop by on your way to work to enjoy a cup of coffee and a delicious fresh made pastry to begin your day. We know the day gets crazy\, so start by connecting with other business professionals before you get to the office and lost in your emails.&nbsp\; This is a complimentary event hosted by the Spice Rack - your pre-registration helps us plan for the right amount of food.&nbsp\;&nbsp\;<br />\n<br />\nThanks to the Spice Rack for hosting!&nbsp\;
LOCATION:The Spice Rack 2470 CO-66 Estes Park\, CO.
UID:e.3592.12141
SEQUENCE:3
DTSTAMP:20260420T232337Z
URL:https://business.esteschamber.org/events/details/2025-coffee-connections-the-spice-rack-12141
END:VEVENT

END:VCALENDAR
