BEGIN:VCALENDAR
VERSION:2.0
PRODID:-//ChamberMaster//Event Calendar 2.0//EN
METHOD:PUBLISH
X-PUBLISHED-TTL:P3D
REFRESH-INTERVAL:P3D
CALSCALE:GREGORIAN
BEGIN:VEVENT
DTSTART:20251107T000000Z
DTEND:20251107T020000Z
X-MICROSOFT-CDO-ALLDAYEVENT:FALSE
SUMMARY:2025 Community Gumbo Dinner
DESCRIPTION:Join us for the 5th annual Community Dinner. Carl Robicheaux of Elkhorn Law and his merry band of volunteers will be preparing authentic Louisiana style Gumbo. We offer several sizes of Gumbo to enjoy with your family and neighbors in the Tavern at the Legion or you can take it go. The Gumbo comes with bread & butter and the Legion will be offering a cash bar for beverages. \n\n\n\nThe entire community is welcome to join for this "Friendsgiving" themed night of food and fellowship. Invite your neighbor\, coworker\, and their kids to partake. \n\n\n\nGumbo is limited so pre-register today!\n\nOnline registration ends at 3PM on November 6.\n\n\n\nIf you can't stay for dinner but want to enjoy a bowl of Gumbo at home\, pre-order yours to go. You'll be able to pick up at the Tavern at the Legion during the event. \n\n\n\nThank you to our generous sponsors: Visit Estes Park and Bank of Estes Park
X-ALT-DESC;FMTTYPE=text/html:<br />\nJoin us for the 5th annual Community Dinner. Carl Robicheaux of Elkhorn Law and his merry band of volunteers will be preparing authentic Louisiana style Gumbo. We offer several sizes of Gumbo to enjoy with your family and neighbors in the Tavern at the Legion&nbsp\;or you can take it go. The Gumbo comes with bread &amp\; butter and the Legion will be offering a cash bar for beverages.&nbsp\;<br />\n<br />\nThe entire community is welcome to join for this &quot\;Friendsgiving&quot\; themed night of food and fellowship. Invite your neighbor\, coworker\, and their kids to partake.&nbsp\;<br />\n<br />\nGumbo is limited so pre-register today!<br />\nOnline registration ends at 3PM on November 6.<br />\n<br />\nIf you can&#39\;t stay for dinner but want to enjoy a bowl of Gumbo at home\, pre-order yours to go. You&#39\;ll be able to pick up at the Tavern at the Legion during the event.&nbsp\;<br />\n<br />\nThank you to our generous sponsors: Visit Estes Park and Bank of Estes Park
LOCATION:Tavern at the Legion 850 N St Vrain Ave\, Estes Park\, CO 80517
UID:e.3592.12137
SEQUENCE:3
DTSTAMP:20260421T092535Z
URL:https://business.esteschamber.org/events/details/2025-community-gumbo-dinner-12137
END:VEVENT

END:VCALENDAR
