BEGIN:VCALENDAR
VERSION:2.0
PRODID:-//ChamberMaster//Event Calendar 2.0//EN
METHOD:PUBLISH
X-PUBLISHED-TTL:P3D
REFRESH-INTERVAL:P3D
CALSCALE:GREGORIAN
BEGIN:VEVENT
DTSTART:20250625T223000Z
DTEND:20250626T000000Z
X-MICROSOFT-CDO-ALLDAYEVENT:FALSE
SUMMARY:2025 Construction Alliance Kick-Off Event
DESCRIPTION:Join us as we kick-off the newest Estes Chamber of Commerce Alliance - The Construction Alliance - which consists of General Contractors\, Subcontractors\, Developers\, Design Professionals and Affiliate Businesses in Estes Park\, CO.
X-ALT-DESC;FMTTYPE=text/html:Join us as we kick-off the newest Estes Chamber of Commerce Alliance - The Construction Alliance - which consists of General Contractors\, Subcontractors\, Developers\, Design Professionals and Affiliate Businesses in Estes Park\, CO.
LOCATION:This event will be held at Lumpy Ridge Brewing Co. Publick House. 203 Cleave St\, Estes Park\, CO 80517
UID:e.3592.12173
SEQUENCE:3
DTSTAMP:20260421T035349Z
URL:https://business.esteschamber.org/events/details/2025-construction-alliance-kick-off-event-12173
END:VEVENT

END:VCALENDAR
