BEGIN:VCALENDAR
VERSION:2.0
PRODID:-//ChamberMaster//Event Calendar 2.0//EN
METHOD:PUBLISH
X-PUBLISHED-TTL:P3D
REFRESH-INTERVAL:P3D
CALSCALE:GREGORIAN
BEGIN:VEVENT
DTSTART:20250605T233000Z
DTEND:20250606T010000Z
X-MICROSOFT-CDO-ALLDAYEVENT:FALSE
SUMMARY:2025 Mini Golf Tournament
DESCRIPTION:Join us for our annual Chamber Mini Golf Tournament hosted by Ride A Kart!\n\n\n\nDon't golf but want to join the fun? Register for the event and enjoy networking and a beverage as other's compete for the Title!\n\n\n\nThank you to our generous sponsors:
X-ALT-DESC;FMTTYPE=text/html:Join us for our annual Chamber Mini Golf Tournament hosted by Ride A Kart!<br />\n<br />\nDon&#39\;t golf but want to join the fun? Register for the event and enjoy networking and a beverage as other&#39\;s compete for the Title!<br />\n<br />\nThank you to our generous sponsors:<br />\n<br />\n&nbsp\;
LOCATION:Ride A Kart Estes Park\, CO 80517
UID:e.3592.12135
SEQUENCE:3
DTSTAMP:20260420T082719Z
URL:https://business.esteschamber.org/events/details/2025-mini-golf-tournament-12135
END:VEVENT

END:VCALENDAR
