BEGIN:VCALENDAR
VERSION:2.0
PRODID:-//ChamberMaster//Event Calendar 2.0//EN
METHOD:PUBLISH
X-PUBLISHED-TTL:P3D
REFRESH-INTERVAL:P3D
CALSCALE:GREGORIAN
BEGIN:VEVENT
DTSTART:20250515T131500Z
DTEND:20250515T233000Z
X-MICROSOFT-CDO-ALLDAYEVENT:FALSE
SUMMARY:2025 Ready Set Grow Women's Conference 2025. (5/15 at 8:15am at Expedition Lodge)
DESCRIPTION:Empowering Women - A conference for Growth and Inspiration!  \n\nJoin us for a day of networking\, learning\, empowerment and inspiration at the Ready\, Set\, Grow! Women's Conference.\n\nKeynote Speaker Dale Wilsher + Panel Topic Speakers throughout the day: Social Media\, Finance\, Goal Setting & more\n\nStart the day with a 30 minute Mindful Movement practice with Estes Park Yoga Kerry Shamblin - Enjoy Coffee & Pastries before jumping into a day of speakers.  Lunch will be served between the morning and afternoon session as well as an after conference social hour to unwind and enjoy a glass of wine.  $25 Commitment fee to hold your place.  Morning Yoga is a free optional add on at registration 7:15 to 7:45am\n\nYour Hosts:\n\nHarriette Woodard  Bank of Colorado Mortgage Division\n\nJulie Abel Signature Home Team Keller Williams NoCo\n\nFellow Sponsors:\n\nBank of Colorado\n\nEconomic Development and Workforce Council\n\nVisit Estes park\n\nYou Need Pie\n\nPremier Member Credit Union\n\nEstes Park Chamber Foundation
X-ALT-DESC;FMTTYPE=text/html:<span style="font-size:14px\;"><strong>Empowering Women - A conference for Growth and Inspiration!&nbsp\;&nbsp\;</strong></span><br />\nJoin us for a day of networking\, learning\, empowerment and inspiration at the Ready\, Set\, Grow! Women&#39\;s Conference.<br />\nKeynote Speaker Dale Wilsher + Panel Topic Speakers throughout the day: Social Media\, Finance\, Goal Setting &amp\; more<br />\nStart the day with a 30 minute Mindful Movement practice with Estes Park Yoga Kerry Shamblin - Enjoy Coffee &amp\; Pastries before jumping into a day of speakers.&nbsp\; Lunch will be served between the morning and afternoon session as well as an after conference social hour to unwind and enjoy a glass of wine.&nbsp\; $25 Commitment fee to hold your place.&nbsp\; Morning Yoga is a free optional add on at registration 7:15 to 7:45am<br />\nYour Hosts:<br />\nHarriette Woodard&nbsp\; Bank of Colorado Mortgage Division<br />\nJulie Abel Signature Home Team Keller Williams NoCo<br />\nFellow Sponsors:<br />\nBank of Colorado<br />\nEconomic Development and Workforce Council<br />\nVisit Estes park<br />\nYou Need Pie<br />\nPremier Member Credit Union<br />\nEstes Park Chamber Foundation
LOCATION:Expedition Lodge 1701 N. Lake Ave Estes Park\, CO 80517
UID:e.3592.12152
SEQUENCE:3
DTSTAMP:20260421T022830Z
URL:https://business.esteschamber.org/events/details/2025-ready-set-grow-women-s-conference-2025-5-15-at-8-15am-at-expedition-lodge-12152
END:VEVENT

END:VCALENDAR
