BEGIN:VCALENDAR
VERSION:2.0
PRODID:-//ChamberMaster//Event Calendar 2.0//EN
METHOD:PUBLISH
X-PUBLISHED-TTL:P3D
REFRESH-INTERVAL:P3D
CALSCALE:GREGORIAN
BEGIN:VEVENT
DTSTART:20250521T180000Z
DTEND:20250521T190000Z
X-MICROSOFT-CDO-ALLDAYEVENT:FALSE
SUMMARY:2025 Ribbon Cutting: Rocky Mountains Fossils & Jewelry
DESCRIPTION:A unique combination of real fossils and silver and gold jewelry with real stones. Lease started March 1\, and the setup was completed by April 15. Open for business now.\n\n\n\nWe will offer 15% discount all day for the grand opening with door prize for all.
X-ALT-DESC;FMTTYPE=text/html:<!--StartFragment--><span data-olk-copy-source="MessageBody" style="border-bottom: 1px solid rgb(204\, 204\, 204)\;">A unique combination of real fossils and silver and gold jewelry with real stones. Lease started March 1\, and the setup was completed by April 15. Open for business now.</span><br />\n<br />\n<!--StartFragment--><span data-olk-copy-source="MessageBody" style="border-bottom: 1px solid rgb(204\, 204\, 204)\;">We will offer 15% discount all day for the grand opening with door prize for all.</span><!--EndFragment-->
LOCATION:431 W Elkhorn Ave Estes Park\, CO 80517
UID:e.3592.12697
SEQUENCE:3
DTSTAMP:20260421T023609Z
URL:https://business.esteschamber.org/events/details/2025-ribbon-cutting-rocky-mountains-fossils-jewelry-12697
END:VEVENT

END:VCALENDAR
