BEGIN:VCALENDAR
VERSION:2.0
PRODID:-//ChamberMaster//Event Calendar 2.0//EN
METHOD:PUBLISH
X-PUBLISHED-TTL:P3D
REFRESH-INTERVAL:P3D
CALSCALE:GREGORIAN
BEGIN:VEVENT
DTSTART:20250306T230000Z
DTEND:20250307T003000Z
X-MICROSOFT-CDO-ALLDAYEVENT:FALSE
SUMMARY:2025 Women of Impact Celebration
DESCRIPTION:What better way to celebrate International Women's Day than with some of the amazing women who have impacted our community? Join us for our 3rd annual Women of Impact Event. Celebrate the 2025 recipients at our after hours style social at the Barrel. Thank you to the Bank of Colorado  for sponsoring this year's event!\n\n\n\nWe are now accepting nominations for our 2025:\n\nhttps://business.esteschamber.org/form/view/34832
X-ALT-DESC;FMTTYPE=text/html:What better way to celebrate International Women&#39\;s Day than with some of the amazing women who have impacted our community?&nbsp\;Join us for our 3rd annual Women of Impact Event. Celebrate the 2025 recipients at our after hours style social at the Barrel. Thank you to the <strong>Bank of Colorado</strong> &nbsp\;for sponsoring this year&#39\;s event!<br />\n<br />\nWe are now accepting nominations for our 2025:<br />\nhttps://business.esteschamber.org/form/view/34832
LOCATION:The Barrel 251 Moraine Ave\, Estes Park\, CO 80517
UID:e.3592.12123
SEQUENCE:3
DTSTAMP:20260420T232449Z
URL:https://business.esteschamber.org/events/details/2025-women-of-impact-celebration-12123
END:VEVENT

END:VCALENDAR
