BEGIN:VCALENDAR
VERSION:2.0
PRODID:-//ChamberMaster//Event Calendar 2.0//EN
METHOD:PUBLISH
X-PUBLISHED-TTL:P3D
REFRESH-INTERVAL:P3D
CALSCALE:GREGORIAN
BEGIN:VEVENT
DTSTART:20260220T000000Z
DTEND:20260220T023000Z
X-MICROSOFT-CDO-ALLDAYEVENT:FALSE
SUMMARY:2026 Chamber Gala
DESCRIPTION:Dust off your boots and join us at Twin Owls Steakhouse for the Giddy Up Gala. Enjoy generous heavy appetizers\, spirited conversation\, lively line dancing\, and a fun\, welcoming night with our Chamber community. The evening will also feature a hat bar where you can purchase and embellish your very own cowboy hat\, along with a silent auction benefiting Chamber training programs and ongoing operations.\nIf your business is interested in sponsorship opportunities or donating to our silent auction\, contact Colleen DePasquale: director@esteschamber.org.
X-ALT-DESC;FMTTYPE=text/html:<p class="cvGsUA direction-ltr align-center para-style-body" style="color: rgba(105\,142\,160\,var(--O42jJQ\,1))\; caret-color: rgb(105\, 142\, 160)\; --8sD0Kg: none\; font-family: YAEY8b8MzJw_0\, _fb_\, auto\; --cyV3ZQ: 34.1501px\; --gJPlXQ: 1.25\; letter-spacing: 0.045em\; line-height: 42px\;"><span style="color:#000000\;"><span style="font-size:14px\;"><span style="font-family:arial\;">D<span style="font-family:verdana\;"><span style="font-size:16px\;">ust off your boots and join us at Twin Owls Steakhouse for the Giddy Up Gala. Enjoy generous heavy appetizers\, spirited conversation\, lively line dancing\, and a fun\, welcoming night with our Chamber community. The evening will also feature a hat bar where you can purchase and embellish your very own cowboy hat\, along with a silent auction benefiting Chamber training programs and ongoing operations.</span></span></span></span></span></p>\n<span style="font-family:verdana\;"><span style="font-size:16px\;"><span style="color:#000000\;">If your business is interested in sponsorship opportunities or donating to our silent auction\, contact Colleen DePasquale: director@esteschamber.org.</span></span></span>
LOCATION:Twin Owls Steakhouse 3110 S St Vrain Ave Estes Park\, CO 80517
UID:e.3592.14339
SEQUENCE:3
DTSTAMP:20260424T125654Z
URL:https://business.esteschamber.org/events/details/2026-chamber-gala-14339
END:VEVENT

END:VCALENDAR
