BEGIN:VCALENDAR
VERSION:2.0
PRODID:-//ChamberMaster//Event Calendar 2.0//EN
METHOD:PUBLISH
X-PUBLISHED-TTL:P3D
REFRESH-INTERVAL:P3D
CALSCALE:GREGORIAN
BEGIN:VEVENT
DTSTART:20251207T210000Z
DTEND:20251207T230000Z
X-MICROSOFT-CDO-ALLDAYEVENT:FALSE
SUMMARY:A Christmas Carol
DESCRIPTION:Come enjoy this delightful fully staged adaptation of Charles Dickens' "A Christmas Carol" written by James Huchison and directed by Lars Sage.
X-ALT-DESC;FMTTYPE=text/html:Come enjoy this delightful fully staged adaptation of Charles Dickens&#39\; &quot\;A Christmas Carol&quot\; written by James Huchison and directed by Lars Sage.
LOCATION:
UID:e.3592.14317
SEQUENCE:3
DTSTAMP:20260421T115638Z
URL:https://business.esteschamber.org/events/details/a-christmas-carol-12-07-2025-14317
END:VEVENT

END:VCALENDAR
