BEGIN:VCALENDAR
VERSION:2.0
PRODID:-//ChamberMaster//Event Calendar 2.0//EN
METHOD:PUBLISH
X-PUBLISHED-TTL:P3D
REFRESH-INTERVAL:P3D
CALSCALE:GREGORIAN
BEGIN:VEVENT
DTSTART:20250525T150000Z
DTEND:20250525T230000Z
X-MICROSOFT-CDO-ALLDAYEVENT:FALSE
SUMMARY:Art Market
DESCRIPTION:Free and open to the public\, artists and food vendors.\n\nLink to gallery of artists: https://www.zapplication.org/event-gallery.php?ID=12946&embed=true\n\nMultiple Silent Auctions to benefit local scholarships
X-ALT-DESC;FMTTYPE=text/html:Free and open to the public\, artists and food vendors.<br />\nLink to gallery of artists:&nbsp\;https://www.zapplication.org/event-gallery.php?ID=12946&amp\;embed=true<br />\nMultiple Silent Auctions to benefit local scholarships
LOCATION:Bond Park
UID:e.3592.12740
SEQUENCE:3
DTSTAMP:20260421T022118Z
URL:https://business.esteschamber.org/events/details/art-market-05-25-2025-12740
END:VEVENT

END:VCALENDAR
