BEGIN:VCALENDAR
VERSION:2.0
PRODID:-//ChamberMaster//Event Calendar 2.0//EN
METHOD:PUBLISH
X-PUBLISHED-TTL:P3D
REFRESH-INTERVAL:P3D
CALSCALE:GREGORIAN
BEGIN:VEVENT
DTSTART:20250615T010000Z
DTEND:20250615T030000Z
X-MICROSOFT-CDO-ALLDAYEVENT:FALSE
SUMMARY:Asteria Jazz FREE Performance Park Concert Series
DESCRIPTION:Get Ready Asteria Jazz Collective!\n\nAsteria Jazz will be getting the Performance Park stage heated up for the Summer Concert Series! Join us for an unforgettable evening of dynamic rhythms\, and high-energy improvisation as Asteria Jazz Collective brings their signature blend of contemporary and modern jazz to the heart of Estes!\n\nThis performance features Stephany Prodromos' incredible vocals and a special appearance by guest pianist Steve Johnson\, adding even more fire to the night's groove.\n\nDon't miss this chance to kick off your summer with some seriously cool sounds and a hot night of live music!\n\nBring a chair\, grab your friends\, and come vibe with us under the stars!
X-ALT-DESC;FMTTYPE=text/html:<p><strong>Get Ready&mdash\;Asteria Jazz Collective!</strong></p>\n\n<p>Asteria Jazz will be getting the <strong>Performance Park</strong> stage heated up for the <strong>Summer Concert Series</strong>! Join us for an unforgettable evening of dynamic rhythms\, and high-energy improvisation as <strong>Asteria Jazz Collective</strong> brings their signature blend of contemporary and modern jazz to the heart of Estes!</p>\n\n<p>This performance features <strong>Stephany Prodromos&rsquo\;&nbsp\;</strong><strong>incredible vocals</strong> and a special appearance by <strong>guest&nbsp\;</strong><strong>pianist Steve Johnson</strong>\, adding even more fire to the night&rsquo\;s groove.</p>\n\n<p><strong>Don&rsquo\;t miss this chance to kick off your summer with&nbsp\;</strong><strong>some seriously cool sounds and a hot night of live&nbsp\;</strong><strong>music!</strong></p>\n\n<p>Bring a chair\, grab your friends\, and come vibe with us under the stars!</p>\n
LOCATION:Performance Park 435 W Elkhorn
UID:e.3592.12992
SEQUENCE:3
DTSTAMP:20260421T035542Z
URL:https://business.esteschamber.org/events/details/asteria-jazz-free-performance-park-concert-series-12992
END:VEVENT

END:VCALENDAR
