BEGIN:VCALENDAR
VERSION:2.0
PRODID:-//ChamberMaster//Event Calendar 2.0//EN
METHOD:PUBLISH
X-PUBLISHED-TTL:P3D
REFRESH-INTERVAL:P3D
CALSCALE:GREGORIAN
BEGIN:VEVENT
DTSTART:20250528T233000Z
DTEND:20250529T010000Z
X-MICROSOFT-CDO-ALLDAYEVENT:FALSE
SUMMARY:Books & Brews 2025
DESCRIPTION:This is the first in a series of the EDWC and Estes Chamber of Commerce's Business Book Club that will meet quarterly. Join other business owners in the community to discuss James Clear's book Atomic Habits to build better habits for success.
X-ALT-DESC;FMTTYPE=text/html:This is the first in a series of the EDWC and Estes Chamber of Commerce&#39\;s Business Book Club that will meet quarterly. Join other business owners in the community to discuss James Clear&#39\;s book <em>Atomic Habits</em> to build better habits for success.
LOCATION:Avant Garde Aleworks 920 Dunraven St. Estes Park\, CO 80517
UID:e.3592.12162
SEQUENCE:3
DTSTAMP:20260421T021759Z
URL:https://business.esteschamber.org/events/details/books-brews-2025-12162
END:VEVENT

END:VCALENDAR
