BEGIN:VCALENDAR
VERSION:2.0
PRODID:-//ChamberMaster//Event Calendar 2.0//EN
METHOD:PUBLISH
X-PUBLISHED-TTL:P3D
REFRESH-INTERVAL:P3D
CALSCALE:GREGORIAN
BEGIN:VEVENT
DTSTART:20251120T003000Z
DTEND:20251120T020000Z
X-MICROSOFT-CDO-ALLDAYEVENT:FALSE
SUMMARY:Books & Brews: November
DESCRIPTION:Network at our 'Un' Book Club\n\n\n\n\n\n\nParticipants will be meeting quarterly to discuss a pivotal topic to our local business owners. The goal is to learn from the experiences of others and to share trials and successes to help Estes Valley businesses thrive faster and don't worry if you haven't read the book\, a summary will be provided and the discussion is more about topics than the book itself it's an 'un'book club! Q4 Reading Selection will be Dare to Lead by Bren  Brown.\n\n\n\n\n\n\n\n\nThis fall\, we're diving into Bren  Brown's Dare to Lead   a powerful exploration of what it really means to lead with courage\, connection\, and heart.\n\n \n\nBrown challenges us to rethink leadership not as titles or power\, but as the ability to step up\, be brave\, and foster trust. Through stories\, research\, and practical tools\, she shows how vulnerability is not a weakness\, but the path to stronger teams\, deeper relationships\, and lasting impact.\n\n \n\nIf you've ever wondered how to lead with authenticity (at work\, in your community\, or even at home)\, this book offers inspiration and actionable steps. Come ready to reflect\, share\, and maybe even get a little uncomfortable   because that's where growth begins.\n\n \n\n'Un' Book Club Discussion Sessions: Don't worry if you haven't read the book - a summary will be provided and the discussion is more about topics than the book itself...it's an 'Un' Book Club!
X-ALT-DESC;FMTTYPE=text/html:<div class="x_elementToProof" style="box-sizing: border-box\; font-family: &quot\;Fira Sans&quot\;\, sans-serif\; font-size: 16px\; color: rgb(85\, 85\, 85)\; background-color: rgb(243\, 243\, 243)\;">\n<div class="fl-col-group fl-node-5j41nyfbmtiq" data-node="5j41nyfbmtiq" style="box-sizing: border-box\;">\n<div class="fl-col fl-node-yhokqdsicwrx" data-node="yhokqdsicwrx" style="box-sizing: border-box\; float: left\; min-height: 1px\; width: 723px\;">\n<div class="fl-col-content fl-node-content" style="box-sizing: border-box\; margin: 0px\; padding: 0px\;">\n<div class="fl-module fl-module-heading fl-node-962loxyc10z4" data-node="962loxyc10z4" style="box-sizing: border-box\;">\n<div class="fl-module-content fl-node-content" style="box-sizing: border-box\; margin: 15px\;">\n<h2 class="fl-heading" style="box-sizing: border-box\; font-weight: 700\; line-height: 1.1\; font-size: 38px\; letter-spacing: 0px\; margin: 0px !important\; padding: 0px !important\;"><span style="box-sizing: border-box\; font-size: 18px\;">Network at our &#39\;Un&#39\; Book Club</span></h2>\n</div>\n</div>\n\n<div class="fl-module fl-module-rich-text fl-node-9jhigoxk4tlq" data-node="9jhigoxk4tlq" style="box-sizing: border-box\;">\n<div class="fl-module-content fl-node-content" style="box-sizing: border-box\; margin: 15px\;">\n<div class="fl-rich-text" style="box-sizing: border-box\;">\n<p style="box-sizing: border-box\; margin-top: 0px\; margin-bottom: 1rem\;">Participants will be meeting quarterly to discuss a pivotal topic to our local business owners. The goal is to learn from the experiences of others and to share trials and successes to help Estes Valley businesses thrive faster&hellip\;and don&rsquo\;t worry if you haven&rsquo\;t read the book\, a summary will be provided and the discussion is more about topics than the book itself&hellip\;it&rsquo\;s an &lsquo\;un&rsquo\;book club! Q4 Reading Selection will be&nbsp\;<em style="box-sizing: border-box\;">Dare to Lead</em>&nbsp\;by Bren&eacute\; Brown.</p>\n</div>\n</div>\n</div>\n</div>\n</div>\n</div>\n<br style="box-sizing: border-box\;" />\n<i data-olk-copy-source="MessageBody" style="box-sizing: border-box\;">This fall\, we&rsquo\;re diving into Bren&eacute\; Brown&rsquo\;s Dare to Lead&nbsp\;&mdash\; a powerful exploration of what it really means to lead with courage\, connection\, and heart.</i></div>\n\n<div style="box-sizing: border-box\; font-family: &quot\;Fira Sans&quot\;\, sans-serif\; font-size: 16px\; color: rgb(85\, 85\, 85)\; background-color: rgb(243\, 243\, 243)\;">&nbsp\;</div>\n\n<div class="x_elementToProof" style="box-sizing: border-box\; font-family: &quot\;Fira Sans&quot\;\, sans-serif\; font-size: 16px\; color: rgb(85\, 85\, 85)\; background-color: rgb(243\, 243\, 243)\;"><i style="box-sizing: border-box\;">Brown challenges us to rethink leadership not as titles or power\, but as the ability to&nbsp\;</i><span style="box-sizing: border-box\; font-weight: bolder\;"><i style="box-sizing: border-box\;">step up\, be brave\, and foster trust</i></span><i style="box-sizing: border-box\;">. Through stories\, research\, and practical tools\, she shows how vulnerability is not a weakness\, but the path to stronger teams\, deeper relationships\, and lasting impact.</i></div>\n\n<div style="box-sizing: border-box\; font-family: &quot\;Fira Sans&quot\;\, sans-serif\; font-size: 16px\; color: rgb(85\, 85\, 85)\; background-color: rgb(243\, 243\, 243)\;">&nbsp\;</div>\n\n<div class="x_elementToProof" style="box-sizing: border-box\; font-family: &quot\;Fira Sans&quot\;\, sans-serif\; font-size: 16px\; color: rgb(85\, 85\, 85)\; background-color: rgb(243\, 243\, 243)\;"><i style="box-sizing: border-box\;">If you&rsquo\;ve ever wondered how to lead with authenticity (at work\, in your community\, or even at home)\, this book offers inspiration and actionable steps. Come ready to reflect\, share\, and maybe even get a little uncomfortable &mdash\; because that&rsquo\;s where growth begins.</i></div>\n\n<div style="box-sizing: border-box\; font-family: &quot\;Fira Sans&quot\;\, sans-serif\; font-size: 16px\; color: rgb(85\, 85\, 85)\; background-color: rgb(243\, 243\, 243)\;">&nbsp\;</div>\n\n<div class="x_elementToProof" style="box-sizing: border-box\; outline: 0px\; font-family: &quot\;Fira Sans&quot\;\, sans-serif\; font-size: 16px\; color: rgb(85\, 85\, 85)\; background-color: rgb(243\, 243\, 243)\;"><strong style="box-sizing: border-box\; font-weight: bold\;"><i style="box-sizing: border-box\;"><u style="box-sizing: border-box\;">&#39\;Un&#39\; Book Club Discussion Sessions:</u>&nbsp\;Don&#39\;t worry if you haven&#39\;t read the book - a summary will be provided and the discussion is more about topics than the book itself...it&#39\;s an &#39\;Un&#39\; Book Club!</i></strong></div>\n
LOCATION:Rock Cut Brewing Company 390 W Riverside Drive Estes Park\, CO 80517
UID:e.3592.13450
SEQUENCE:3
DTSTAMP:20260421T105229Z
URL:https://business.esteschamber.org/events/details/books-brews-november-13450
END:VEVENT

END:VCALENDAR
