BEGIN:VCALENDAR
VERSION:2.0
PRODID:-//ChamberMaster//Event Calendar 2.0//EN
METHOD:PUBLISH
X-PUBLISHED-TTL:P3D
REFRESH-INTERVAL:P3D
CALSCALE:GREGORIAN
BEGIN:VEVENT
DTSTART:20260615T230000Z
DTEND:20260616T003000Z
X-MICROSOFT-CDO-ALLDAYEVENT:FALSE
SUMMARY:Business After Hours: Backbone Adventures
DESCRIPTION:Join us for our June Business After Hours\, hosted by Backbone Adventures.\n\nConnect with fellow professionals in a relaxed\, outdoor setting and enjoy a unique experience on the trail. Backbone Adventures will provide the opportunity for participants to drive UTVs along a guided route. After the ride\, guests will gather to enjoy food provided by TBD along with a complimentary alcoholic beverage.\n\nWhether you are hoping to build new relationships or reconnect with colleagues\, this event offers a memorable way to wrap up the day.
X-ALT-DESC;FMTTYPE=text/html:<p data-end="108" data-start="0"><strong>Join us for our June Business After Hours\, hosted by&nbsp\;<span class="hover:entity-accent entity-underline inline cursor-pointer align-baseline">Backbone Adventures</span>.</strong></p>\n\n<p data-end="431" data-start="110">Connect with fellow professionals in a relaxed\, outdoor setting and enjoy a unique experience on the trail. Backbone Adventures will provide the opportunity for participants to drive UTVs along a guided route. After the ride\, guests will gather to enjoy food provided by TBD along with a complimentary alcoholic beverage.</p>\n\n<p data-end="566" data-is-last-node="" data-is-only-node="" data-start="433">Whether you are hoping to build new relationships or reconnect with colleagues\, this event offers a memorable way to wrap up the day.</p>\n
LOCATION:Meeting location TBD
UID:e.3592.14402
SEQUENCE:3
DTSTAMP:20260422T132907Z
URL:https://business.esteschamber.org/events/details/business-after-hours-backbone-adventures-14402
END:VEVENT

END:VCALENDAR
