BEGIN:VCALENDAR
VERSION:2.0
PRODID:-//ChamberMaster//Event Calendar 2.0//EN
METHOD:PUBLISH
X-PUBLISHED-TTL:P3D
REFRESH-INTERVAL:P3D
CALSCALE:GREGORIAN
BEGIN:VEVENT
DTSTART:20241208T020000Z
DTEND:20241208T040000Z
X-MICROSOFT-CDO-ALLDAYEVENT:FALSE
SUMMARY:Calm Beneath Castles
DESCRIPTION:Calm Beneath Castles is an awe-inspiring ski movie that delves into the heart\, soul\, and mind of skiers driven by an insatiable thirst for adventure and discovery. This epic film explores the essence of finding solace in nature and being one with the mountains. Following the world's best skiers to breathtaking locations\, it captures their quirks\, instincts\, and passion as they prepare and take on the mountain. The film is a testament to their extraordinary skill\, courage\, and determination\, showcasing their connection with nature and the tranquility they find beneath towering castles of snow. Through stunning cinematography and compelling storytelling\, Calm Beneath Castles inspires viewers with its portrayal of the skiers' relentless pursuit of their goals and their harmonious relationship with the mountains. Starring: Sam Kuch\, Michelle Parker\, Dennis Ranalter\, Colby Stevenson\, Jess Hotter\, Craig Murray\, Janelle Yip\, John Collinson\, Coline Ballet-Baz\, Mark Abma\, Ari Tricomi\, Sam Cohen\, Nadine Wallner\, Eric Hjorliefson\, Finn Bilous\, Emily Childs\, Karl Fostvedt\, Gen Sasaki\, Stinius Skj tskift\, Xander Guldman\, Cole Richardson\, Marcus Goguen\, Max Palm\, Manon Loschi\n\n\n\nTickets: $15. All funds benefit the Estes Park Education Foundation\, supporting local teachers and students
X-ALT-DESC;FMTTYPE=text/html:<span style="background-color:rgb(235\, 235\, 235)\; color:rgb(0\, 0\, 0)\; font-family:quicksand\,sans-serif\; font-size:14px">Calm Beneath Castles is an awe-inspiring ski movie that delves into the heart\, soul\, and mind of skiers driven by an insatiable thirst for adventure and discovery. This epic film explores the essence of finding solace in nature and being one with the mountains. Following the world&#39\;s best skiers to breathtaking locations\, it captures their quirks\, instincts\, and passion as they prepare and take on the mountain. The film is a testament to their extraordinary skill\, courage\, and determination\, showcasing their connection with nature and the tranquility they find beneath towering castles of snow. Through stunning cinematography and compelling storytelling\, Calm Beneath Castles inspires viewers with its portrayal of the skiers&#39\; relentless pursuit of their goals and their harmonious relationship with the mountains. Starring: Sam Kuch\, Michelle Parker\, Dennis Ranalter\, Colby Stevenson\, Jess Hotter\, Craig Murray\, Janelle Yip\, John Collinson\, Coline Ballet-Baz\, Mark Abma\, Ari Tricomi\, Sam Cohen\, Nadine Wallner\, Eric Hjorliefson\, Finn Bilous\, Emily Childs\, Karl Fostvedt\, Gen Sasaki\, Stinius Skj&oslash\;tskift\, Xander Guldman\, Cole Richardson\, Marcus Goguen\, Max Palm\, Manon Loschi</span><br />\n<br />\n<span style="background-color:rgb(235\, 235\, 235)\; color:rgb(0\, 0\, 0)\; font-family:quicksand\,sans-serif\; font-size:14px">Tickets: $15. All funds benefit the Estes Park Education Foundation\, supporting local teachers and students</span>
LOCATION:Historic Park Theatre 130 Moraine Ave Estes Park\, CO 80517
UID:e.3592.11896
SEQUENCE:3
DTSTAMP:20260421T003149Z
URL:https://business.esteschamber.org/events/details/calm-beneath-castles-11896
END:VEVENT

END:VCALENDAR
