BEGIN:VCALENDAR
VERSION:2.0
PRODID:-//ChamberMaster//Event Calendar 2.0//EN
METHOD:PUBLISH
X-PUBLISHED-TTL:P3D
REFRESH-INTERVAL:P3D
CALSCALE:GREGORIAN
BEGIN:VEVENT
DTSTART:20251103T183000Z
DTEND:20251103T200000Z
X-MICROSOFT-CDO-ALLDAYEVENT:FALSE
SUMMARY:Curious About AI? Let's Demystify It Together!
DESCRIPTION:Overview\nLed by the knowledgeable and engaging Hope Hartman\, this hands-on session will break down the buzz around AI and show you practical ways it can lighten your load\, boost efficiency\, and help you work smarter not harder.\n\n\nAbout This Event\n\nWhat we'll cover:\n\n \n\n\n	Are you AI-ready?\n	Let's find out!\n	Smart things to consider before diving in\n	The limits of AI: what it can't do (yes\, it's good to know!)\n	Where AI could support your daily operations\n	A live use-case demonstration of AI in action\n	Actionable takeaways: AI Tool Matrix + Readiness Checklist\n	Open Q&A to answer your burning questions\n\n\nYou'll leave with clarity\, confidence\, and real tools to start exploring AI on your terms. Whether you're juggling all the hats or just looking to level up\, this session is for you.\n\n \n\nLet's unlock the power of AI without the overwhelm. See you there!\n\n\n\nWho Should Attend?\n\nThis session is ideal for anyone looking to understand and explore the practical application of AI in their work\, especially those who manage multiple responsibilities or need actionable tools to begin their AI journey.\n\n\n\nMore Information\n\nJust a friendly reminder that a complimentary lunch will be provided for all attendees during the event.
X-ALT-DESC;FMTTYPE=text/html:<div class="slds-m-bottom_medium" lwc-4ne7rvo8ph4="" style="box-sizing: border-box\; margin-bottom: 16px\; color: rgba(0\, 0\, 0\, 0.8)\; font-family: Lato\;">\n<div class="slds-m-bottom_medium" lwc-4ne7rvo8ph4="" style="box-sizing: border-box\; margin-bottom: 16px\; color: rgba(0\, 0\, 0\, 0.8)\; font-family: Lato\;">\n<h4 class="slds-text-heading_small slds-text-title_caps slds-m-bottom_x-small" lwc-4ne7rvo8ph4="" style="box-sizing: border-box\; margin: 0px 0px 8px\; padding: 0px\; font-size: 12px\; font-family: Montserrat\; line-height: 1.25\; color: rgba(0\, 0\, 0\, 0.6)\; text-transform: uppercase\; letter-spacing: 0.0625rem\;"><span style="color:#000000\;"><span style="font-family:arial\;"><span style="font-size:14px\;">Overview</span></span></span></h4>\n<lightning-formatted-rich-text class="slds-rich-text-editor__output" lwc-4ne7rvo8ph4="" lwc-4nfn2rc40ch-host="" style="box-sizing: border-box\; line-height: 1.5\; overflow-wrap: break-word\; hyphens: manual\;"><span style="color:#000000\;"><span style="font-family:arial\;"><span style="font-size:14px\;">Led by the knowledgeable and engaging Hope Hartman\, this hands-on session will break down the buzz around AI and show you practical ways it can lighten your load\, boost efficiency\, and help you work smarter&mdash\;not harder.</span></span></span></lightning-formatted-rich-text></div>\n\n<div class="slds-m-bottom_medium" lwc-4ne7rvo8ph4="" style="box-sizing: border-box\; margin-bottom: 16px\; color: rgba(0\, 0\, 0\, 0.8)\; font-family: Lato\;">\n<h4 class="slds-text-heading_small slds-text-title_caps slds-m-bottom_x-small" lwc-4ne7rvo8ph4="" style="box-sizing: border-box\; margin: 0px 0px 8px\; padding: 0px\; font-size: 12px\; font-family: Montserrat\; line-height: 1.25\; color: rgba(0\, 0\, 0\, 0.6)\; text-transform: uppercase\; letter-spacing: 0.0625rem\;"><span style="color:#000000\;"><span style="font-family:arial\;"><span style="font-size:14px\;">About This Event</span></span></span></h4>\n<lightning-formatted-rich-text class="slds-rich-text-editor__output" lwc-4ne7rvo8ph4="" lwc-4nfn2rc40ch-host="" style="box-sizing: border-box\; line-height: 1.5\; overflow-wrap: break-word\; hyphens: manual\;">\n<p lwc-4nfn2rc40ch="" style="box-sizing: border-box\; margin: 0px\; padding: 0px\;"><span style="color:#000000\;"><span style="font-family:arial\;"><span style="font-size:14px\;"><span lwc-4nfn2rc40ch="" part="formatted-rich-text" style="box-sizing: border-box\;">What we&rsquo\;ll cover:</span></span></span></span></p>\n\n<p lwc-4nfn2rc40ch="" style="box-sizing: border-box\; margin: 0px\; padding: 0px\;">&nbsp\;</p>\n\n<ul lwc-4nfn2rc40ch="" style="box-sizing: border-box\; margin: 0px 0px 12px 24px\; padding-right: 0px\; padding-left: 0px\; list-style-position: initial\; list-style-image: initial\;">\n	<li lwc-4nfn2rc40ch="" style="box-sizing: border-box\;"><span style="color:#000000\;"><span style="font-family:arial\;"><span style="font-size:14px\;"><span lwc-4nfn2rc40ch="" part="formatted-rich-text" style="box-sizing: border-box\;">Are you AI-ready?</span></span></span></span></li>\n	<li lwc-4nfn2rc40ch="" style="box-sizing: border-box\;"><span style="color:#000000\;"><span style="font-family:arial\;"><span style="font-size:14px\;"><span lwc-4nfn2rc40ch="" part="formatted-rich-text" style="box-sizing: border-box\;">Let&rsquo\;s find out!</span></span></span></span></li>\n	<li lwc-4nfn2rc40ch="" style="box-sizing: border-box\;"><span style="color:#000000\;"><span style="font-family:arial\;"><span style="font-size:14px\;"><span lwc-4nfn2rc40ch="" part="formatted-rich-text" style="box-sizing: border-box\;">Smart things to consider before diving in</span></span></span></span></li>\n	<li lwc-4nfn2rc40ch="" style="box-sizing: border-box\;"><span style="color:#000000\;"><span style="font-family:arial\;"><span style="font-size:14px\;"><span lwc-4nfn2rc40ch="" part="formatted-rich-text" style="box-sizing: border-box\;">The limits of AI: what it can&rsquo\;t do (yes\, it&rsquo\;s good to know!)</span></span></span></span></li>\n	<li lwc-4nfn2rc40ch="" style="box-sizing: border-box\;"><span style="color:#000000\;"><span style="font-family:arial\;"><span style="font-size:14px\;"><span lwc-4nfn2rc40ch="" part="formatted-rich-text" style="box-sizing: border-box\;">Where AI could support your daily operations</span></span></span></span></li>\n	<li lwc-4nfn2rc40ch="" style="box-sizing: border-box\;"><span style="color:#000000\;"><span style="font-family:arial\;"><span style="font-size:14px\;"><span lwc-4nfn2rc40ch="" part="formatted-rich-text" style="box-sizing: border-box\;">A live use-case demonstration of AI in action</span></span></span></span></li>\n	<li lwc-4nfn2rc40ch="" style="box-sizing: border-box\;"><span style="color:#000000\;"><span style="font-family:arial\;"><span style="font-size:14px\;"><span lwc-4nfn2rc40ch="" part="formatted-rich-text" style="box-sizing: border-box\;">Actionable takeaways: AI Tool Matrix + Readiness Checklist</span></span></span></span></li>\n	<li lwc-4nfn2rc40ch="" style="box-sizing: border-box\;"><span style="color:#000000\;"><span style="font-family:arial\;"><span style="font-size:14px\;"><span lwc-4nfn2rc40ch="" part="formatted-rich-text" style="box-sizing: border-box\;">Open Q&amp\;A to answer your burning questions</span></span></span></span></li>\n</ul>\n\n<p lwc-4nfn2rc40ch="" style="box-sizing: border-box\; margin: 0px\; padding: 0px\;"><span style="color:#000000\;"><span style="font-family:arial\;"><span style="font-size:14px\;"><span lwc-4nfn2rc40ch="" part="formatted-rich-text" style="box-sizing: border-box\;">You&rsquo\;ll leave with clarity\, confidence\, and real tools to start exploring AI on your terms. Whether you&rsquo\;re juggling all the hats or just looking to level up\, this session is for you.</span></span></span></span></p>\n\n<p lwc-4nfn2rc40ch="" style="box-sizing: border-box\; margin: 0px\; padding: 0px\;">&nbsp\;</p>\n\n<p lwc-4nfn2rc40ch="" style="box-sizing: border-box\; margin: 0px\; padding: 0px\;"><span style="color:#000000\;"><span style="font-family:arial\;"><span style="font-size:14px\;"><span lwc-4nfn2rc40ch="" part="formatted-rich-text" style="box-sizing: border-box\;">Let&rsquo\;s unlock the power of AI&mdash\;without the overwhelm. See you there!</span></span></span></span></p>\n</lightning-formatted-rich-text></div>\n\n<div class="slds-m-bottom_medium" lwc-4ne7rvo8ph4="" style="box-sizing: border-box\; margin-bottom: 16px\; color: rgba(0\, 0\, 0\, 0.8)\; font-family: Lato\;">\n<h4 class="slds-text-heading_small slds-text-title_caps slds-m-bottom_x-small" lwc-4ne7rvo8ph4="" style="box-sizing: border-box\; margin: 0px 0px 8px\; padding: 0px\; font-size: 12px\; font-family: Montserrat\; line-height: 1.25\; color: rgba(0\, 0\, 0\, 0.6)\; text-transform: uppercase\; letter-spacing: 0.0625rem\;"><span style="color:#000000\;"><span style="font-family:arial\;"><span style="font-size:14px\;">Who Should Attend?</span></span></span></h4>\n<lightning-formatted-rich-text class="slds-rich-text-editor__output" lwc-4ne7rvo8ph4="" lwc-4nfn2rc40ch-host="" style="box-sizing: border-box\; line-height: 1.5\; overflow-wrap: break-word\; hyphens: manual\;">\n<p lwc-4nfn2rc40ch="" style="box-sizing: border-box\; margin: 0px\; padding: 0px\;"><span style="color:#000000\;"><span style="font-family:arial\;"><span style="font-size:14px\;"><span lwc-4nfn2rc40ch="" part="formatted-rich-text" style="box-sizing: border-box\;">This session is ideal for anyone looking to understand and explore the practical application of AI in their work\, especially those who manage multiple responsibilities or need actionable tools to begin their AI journey.</span></span></span></span></p>\n</lightning-formatted-rich-text></div>\n\n<div class="slds-m-bottom_medium" lwc-4ne7rvo8ph4="" style="box-sizing: border-box\; margin-bottom: 16px\; color: rgba(0\, 0\, 0\, 0.8)\; font-family: Lato\;">\n<h4 class="slds-text-heading_small slds-text-title_caps slds-m-bottom_x-small" lwc-4ne7rvo8ph4="" style="box-sizing: border-box\; margin: 0px 0px 8px\; padding: 0px\; font-size: 12px\; font-family: Montserrat\; line-height: 1.25\; color: rgba(0\, 0\, 0\, 0.6)\; text-transform: uppercase\; letter-spacing: 0.0625rem\;"><span style="color:#000000\;"><span style="font-family:arial\;"><span style="font-size:14px\;">More Information</span></span></span></h4>\n<lightning-formatted-rich-text class="slds-rich-text-editor__output" lwc-4ne7rvo8ph4="" lwc-4nfn2rc40ch-host="" style="box-sizing: border-box\; line-height: 1.5\; overflow-wrap: break-word\; hyphens: manual\;">\n<p lwc-4nfn2rc40ch="" style="box-sizing: border-box\; margin: 0px\; padding: 0px\;"><span style="color:#000000\;"><span style="font-family:arial\;"><span style="font-size:14px\;"><span lwc-4nfn2rc40ch="" part="formatted-rich-text" style="box-sizing: border-box\;">Just a friendly reminder that a complimentary lunch will be provided for all attendees during the event.</span></span></span></span></p>\n</lightning-formatted-rich-text></div>\n</div>\n\n<div lwc-4ne7rvo8ph4="" style="box-sizing: border-box\; color: rgba(0\, 0\, 0\, 0.8)\; font-family: Lato\;">&nbsp\;</div>\n
LOCATION:Estes Valley Library Hondius Room
UID:e.3592.13694
SEQUENCE:3
DTSTAMP:20260421T105255Z
URL:https://business.esteschamber.org/events/details/curious-about-ai-let-s-demystify-it-together-13694
END:VEVENT

END:VCALENDAR
