BEGIN:VCALENDAR
VERSION:2.0
PRODID:-//ChamberMaster//Event Calendar 2.0//EN
METHOD:PUBLISH
X-PUBLISHED-TTL:P3D
REFRESH-INTERVAL:P3D
CALSCALE:GREGORIAN
BEGIN:VEVENT
DTSTART:20260312T233000Z
DTEND:20260313T010000Z
X-MICROSOFT-CDO-ALLDAYEVENT:FALSE
SUMMARY:Estes Park Board of Trustees Candidate Forum
DESCRIPTION:Estes Park Board of     \n\n\n\nTrustees\n\n\n\nCandidate Forum\n\n\n\nMarch 12\, 2026\n\n5:30 - 7:00 PM\n\n\n\nEstes ParkTown Hall\n\n170 MacGregor Avenud\n\nOpen to the Public\n\n\n\nFor more information on the Estes Park Municipal Election and registration requirements go to\n\nhttps://estespark.colorado.gov/elections\n\n\n\nThe Forum can be live streamed on the Town's YouTube page\n\nwww.estes.org/videos
X-ALT-DESC;FMTTYPE=text/html:<p style="text-align:center"><span style="font-family:arial\,helvetica\,sans-serif"><span style="font-size:14px"><strong><span style="color:rgb(0\, 0\, 0)">Estes Park Board of &nbsp\; &nbsp\;&nbsp\;</span></strong></span></span></p>\n\n<p style="text-align:center"><br />\n<span style="font-family:arial\,helvetica\,sans-serif"><span style="font-size:14px"><strong><span style="color:rgb(255\, 0\, 0)"><span style="color:rgb(0\, 0\, 0)">Trustees</span><br />\n<br />\n<span style="color:rgb(0\, 0\, 0)">Candidate Forum</span><br />\n<br />\n<span style="color:rgb(0\, 112\, 192)">March 12\, 2026<br />\n5:30 - 7:00 PM</span><br />\n<br />\nEstes ParkTown Hall<br />\n170 MacGregor Avenud<br />\nOpen to the Public<br />\n<br />\n<span style="color:rgb(0\, 112\, 192)">For more information on the Estes Park Municipal Election and registration requirements go to<br />\n<a href="https://estespark.colorado.gov/elections" style="color: white !important\; background-color: rgba(59\, 65\, 71\, 0.6) !important\;" target="_blank">https://estespark.colorado.gov/elections</a><br />\n<br />\n<span style="color:rgb(0\, 0\, 0)">The Forum can be live streamed on the Town&#39\;s YouTube page<br />\n<a href="http://www.estes.org/videos" style="color: inherit\;" target="_blank">www.estes.org/videos</a>&nbsp\;</span></span></span></strong></span></span></p>\n
LOCATION:Estes ParkTown Hall\, 170 MacGregor Avenue
UID:e.3592.14407
SEQUENCE:3
DTSTAMP:20260422T085604Z
URL:https://business.esteschamber.org/events/details/estes-park-board-of-trustees-candidate-forum-14407
END:VEVENT

END:VCALENDAR
