BEGIN:VCALENDAR
VERSION:2.0
PRODID:-//ChamberMaster//Event Calendar 2.0//EN
METHOD:PUBLISH
X-PUBLISHED-TTL:P3D
REFRESH-INTERVAL:P3D
CALSCALE:GREGORIAN
BEGIN:VEVENT
DTSTART:20260121T170000Z
DTEND:20260121T185500Z
X-MICROSOFT-CDO-ALLDAYEVENT:FALSE
SUMMARY:Fire Protection District Update
DESCRIPTION:Learn with the League event\, from League of Women Voters of Estes Park
X-ALT-DESC;FMTTYPE=text/html:Learn with the League event\, from League of Women Voters of Estes Park
LOCATION:American Legion Hall\, 850 N. St. Vrain
UID:e.3592.14357
SEQUENCE:3
DTSTAMP:20260422T120250Z
URL:https://business.esteschamber.org/events/details/fire-protection-district-update-14357
END:VEVENT

END:VCALENDAR
