BEGIN:VCALENDAR
VERSION:2.0
PRODID:-//ChamberMaster//Event Calendar 2.0//EN
METHOD:PUBLISH
X-PUBLISHED-TTL:P3D
REFRESH-INTERVAL:P3D
CALSCALE:GREGORIAN
BEGIN:VEVENT
DTSTART:20260313T223000Z
DTEND:20260314T003000Z
X-MICROSOFT-CDO-ALLDAYEVENT:FALSE
SUMMARY:FRIDAY LIVE MUSIC: Andy Eppler
DESCRIPTION:We will be hosting Andy Eppler in The Tasting Room from 4:30 to 6:30 pm\, this week's performer in our FRIDAY LIVE SERIES at the winery. Reservations recommended\, call us at 970-586-2099\, and we'll hold a table for you.
X-ALT-DESC;FMTTYPE=text/html:We will be hosting Andy Eppler in The Tasting Room from 4:30 to 6:30 pm\, this week&#39\;s performer in our FRIDAY LIVE SERIES at the winery. Reservations recommended\, call us at 970-586-2099\, and we&#39\;ll hold a table for you.
LOCATION:Snowy Peaks Winery 292 Moraine Ave. Estes Park\, CO 80517
UID:e.3592.14409
SEQUENCE:3
DTSTAMP:20260422T085541Z
URL:https://business.esteschamber.org/events/details/friday-live-music-andy-eppler-03-13-2026-14409
END:VEVENT

END:VCALENDAR
