BEGIN:VCALENDAR
VERSION:2.0
PRODID:-//ChamberMaster//Event Calendar 2.0//EN
METHOD:PUBLISH
X-PUBLISHED-TTL:P3D
REFRESH-INTERVAL:P3D
CALSCALE:GREGORIAN
BEGIN:VEVENT
DTSTART:20241011T220000Z
DTEND:20241012T000000Z
X-MICROSOFT-CDO-ALLDAYEVENT:FALSE
SUMMARY:FRIDAY LIVE MUSIC at Snowy Peaks Winery
DESCRIPTION:Every Friday\, Snowy Peaks Winery presents a free concert in the tasting room or the back patio (in the summer).  Enjoy a glass of wine and Colorado charcuterie while listening to live music! \n\n2024 dates:\n\n\n\nOct 11th Dakota Gray Band
X-ALT-DESC;FMTTYPE=text/html:Every Friday\, Snowy Peaks Winery presents a free concert in the tasting room or the back patio (in the summer).&nbsp\; Enjoy a glass of wine and Colorado charcuterie while listening to live music!&nbsp\;<br />\n2024 dates:<br />\n<br style="color: rgb(51\, 51\, 51)\; font-family: sans-serif\, Arial\, Verdana\, &quot\;Trebuchet MS&quot\;\; font-size: 13px\;" />\n<span style="color: rgb(51\, 51\, 51)\; font-family: sans-serif\, Arial\, Verdana\, &quot\;Trebuchet MS&quot\;\; font-size: 13px\; background-color: rgb(255\, 255\, 255)\;">Oct 11th Dakota Gray Band</span>
LOCATION:Snowy Peaks Winery 292 Moraine Ave Estes Park\, CO 80517
UID:e.3592.9356
SEQUENCE:3
DTSTAMP:20260421T033039Z
URL:https://business.esteschamber.org/events/details/friday-live-music-at-snowy-peaks-winery-10-11-2024-9356
END:VEVENT

END:VCALENDAR
