BEGIN:VCALENDAR
VERSION:2.0
PRODID:-//ChamberMaster//Event Calendar 2.0//EN
METHOD:PUBLISH
X-PUBLISHED-TTL:P3D
REFRESH-INTERVAL:P3D
CALSCALE:GREGORIAN
BEGIN:VEVENT
DTSTART:20260220T233000Z
DTEND:20260221T013000Z
X-MICROSOFT-CDO-ALLDAYEVENT:FALSE
SUMMARY:FRIDAY LIVE MUSIC AT SNOWY PEAKS WINERY: The Reckless Ramblers
DESCRIPTION:The Reckless Ramblers return to Snowy Peaks Winery for a special performance in our Tasting Room! Reservations are not required but are recommended due to limited seating. Call us at 970-586-2099 to reserve a table.
X-ALT-DESC;FMTTYPE=text/html:The Reckless Ramblers return to Snowy Peaks Winery for a special performance in our Tasting Room! Reservations are not required but are recommended due to limited seating. Call us at 970-586-2099 to reserve a table.
LOCATION:Snowy Peaks Winery\, 292 Moraine Avenue\, Estes Park\, CO 80517
UID:e.3592.14397
SEQUENCE:3
DTSTAMP:20260422T103431Z
URL:https://business.esteschamber.org/events/details/friday-live-music-at-snowy-peaks-winery-the-reckless-ramblers-14397
END:VEVENT

END:VCALENDAR
