BEGIN:VCALENDAR
VERSION:2.0
PRODID:-//ChamberMaster//Event Calendar 2.0//EN
METHOD:PUBLISH
X-PUBLISHED-TTL:P3D
REFRESH-INTERVAL:P3D
CALSCALE:GREGORIAN
BEGIN:VEVENT
DTSTART:20260306T233000Z
DTEND:20260307T013000Z
X-MICROSOFT-CDO-ALLDAYEVENT:FALSE
SUMMARY:FRIDAY LIVE MUSIC: Swing Aggregate
DESCRIPTION:We will be hosting Swing Aggregate in The Tasting Room from 4:30 to 6:30 pm\, this week's performer in our FRIDAY LIVE SERIES at the winery. Reservations recommended\, call us at 970-586-2099\, and we'll hold a table for you.
X-ALT-DESC;FMTTYPE=text/html:We will be hosting Swing Aggregate in The Tasting Room from 4:30 to 6:30 pm\, this week&#39\;s performer in our FRIDAY LIVE SERIES at the winery. Reservations recommended\, call us at 970-586-2099\, and we&#39\;ll hold a table for you.
LOCATION:Snowy Peaks Winery 292 Moraine Ave. Estes Park\, CO 80517
UID:e.3592.14408
SEQUENCE:3
DTSTAMP:20260420T095628Z
URL:https://business.esteschamber.org/events/details/friday-live-music-swing-aggregate-14408
END:VEVENT

END:VCALENDAR
