BEGIN:VCALENDAR
VERSION:2.0
PRODID:-//ChamberMaster//Event Calendar 2.0//EN
METHOD:PUBLISH
X-PUBLISHED-TTL:P3D
REFRESH-INTERVAL:P3D
CALSCALE:GREGORIAN
BEGIN:VEVENT
DTSTART;VALUE=DATE:20260228
DTEND;VALUE=DATE:20260301
TRANSP:TRANSPARENT
X-MICROSOFT-CDO-ALLDAYEVENT:TRUE
SUMMARY:Girl Scout Cookie Paired Wine Flights
DESCRIPTION:Join us for our girl scout cookie paired wine flights on Saturday the 28th! Our wine flights\, specially paired with girl scout cookies will be available all day long\, and girl scout cookies will be available for purchase from 12:30 to 5:00. Treat yourself to some fun\, and help support a great cause! We recommend making a reservation\, call us at 970-586-2099\, and we'll make sure to save you a spot.
X-ALT-DESC;FMTTYPE=text/html:<span style="color:rgb(58\, 58\, 60)\; font-family:lato\,sans-serif\,apple color emoji\,segoe ui emoji\,segoe ui symbol\,noto color emoji\; font-size:14px">Join us for our girl scout cookie paired wine flights on Saturday the 28th! Our wine flights\, specially paired with girl scout cookies will be available all day long\, and girl scout cookies will be available for purchase from 12:30 to 5:00. Treat yourself to some fun\, and help support a great cause! We recommend making a reservation\, call us at 970-586-2099\, and we&#39\;ll make sure to save you a spot.</span>
LOCATION:Snowy Peaks Winery\, 292 Moraine Avenue\, Estes Park\, CO 80517
UID:e.3592.14401
SEQUENCE:3
DTSTAMP:20260422T114354Z
URL:https://business.esteschamber.org/events/details/girl-scout-cookie-paired-wine-flights-14401
END:VEVENT

END:VCALENDAR
