BEGIN:VCALENDAR
VERSION:2.0
PRODID:-//ChamberMaster//Event Calendar 2.0//EN
METHOD:PUBLISH
X-PUBLISHED-TTL:P3D
REFRESH-INTERVAL:P3D
CALSCALE:GREGORIAN
BEGIN:VEVENT
DTSTART:20231116T003000Z
DTEND:20231116T020000Z
X-MICROSOFT-CDO-ALLDAYEVENT:FALSE
SUMMARY:Golden Antler Award
DESCRIPTION:The Bank of Estes Park invites you to join them on November 15\, National Philanthropy Day\, for the announcement of the recipient of the of the Golden Antler Award. The celebration will include heavy appetizers\, drinks\, and networking.
X-ALT-DESC;FMTTYPE=text/html:The Bank of Estes Park invites you to join them on November 15\, National Philanthropy Day\, for the announcement of the recipient of the of the Golden Antler Award. The celebration will include heavy appetizers\, drinks\, and networking.&nbsp\;
LOCATION:Bank of Estes Park 255 Park Lane Estes Park\, CO 80517
UID:e.3592.8904
SEQUENCE:3
DTSTAMP:20260423T031806Z
URL:https://business.esteschamber.org/events/details/golden-antler-award-8904
END:VEVENT

END:VCALENDAR
