BEGIN:VCALENDAR
VERSION:2.0
PRODID:-//ChamberMaster//Event Calendar 2.0//EN
METHOD:PUBLISH
X-PUBLISHED-TTL:P3D
REFRESH-INTERVAL:P3D
CALSCALE:GREGORIAN
BEGIN:VEVENT
DTSTART:20250909T233000Z
DTEND:20250910T010000Z
X-MICROSOFT-CDO-ALLDAYEVENT:FALSE
SUMMARY:How to Get Along with Anyone\, Despite Your Differences
DESCRIPTION:As part of our commitment to give back to the community and thank you for your continued support\, Estes Park Health Foundation is proud to bring you this free opportunity to hear from one of the most sought-after speakers in the country\, right here in Estes Park.\n\n \n\nKelly McDonald has worked with global brands like Toyota\, Nike\, NASA\, and Harley-Davidson. Named one of the "10 Most Booked Speakers in the U.S." and featured in Forbes\, INC. Magazine\, and CNBC\, Kelly brings her humor\, heart\, and real-world experience to the stage in this timely and impactful presentation.\n\n \n\nWhat It's About:\n\nLet's face it\, we all want to get along with people\, but differences in opinion\, background\, communication style\, and even politics can make that feel impossible. In this engaging talk\, Kelly will share practical strategies to help us build stronger relationships\, have more productive conversations\, and connect more deeply with the people in our lives\, even when we don't see eye to eye.\n\n \n\nYou'll walk away with:\n\n\n	8 proven tactics for successful communication across differences\n	4 powerful words to transform tense conversations\n	Tools to lower stress\, reduce friction\, and build trust even in tough situations\n\n\n \n\nWhether it's your neighbor\, your coworker\, or your cousin at the next family dinner\, this talk is for everyone who's ever wished for smoother conversations and stronger human connections.\n\n \n\nCome for the insights. Stay for the sandwiches. Leave with tools to change your life.\n\n \n\nRSVP by September 2nd.\n\n \n\nTo save your spot\, use the QR code\,  call 970-577-4370\, or click the link: : https://forms.office.com/Pages/ResponsePage.aspx?id=v8c4rptfGk-78xJ7aSSo5FL0t1Xklp1Anf-2v4yUf-xUM1JCVjdMUlZaUjA4Rks5SjVSR09LM05YRy4u
X-ALT-DESC;FMTTYPE=text/html:<p style="margin: 0in\;"><span data-olk-copy-source="MailCompose" style="font-family: Aptos\, sans-serif\; font-size: 11pt\; color: rgb(36\, 36\, 36)\;">As part of our commitment to give back to the community and thank you for your continued support\, Estes Park Health Foundation is proud to bring you this free opportunity to hear from one of the most sought-after speakers in the country\, right here in Estes Park.</span></p>\n\n<p style="margin: 0in\;"><span style="font-family: Aptos\, sans-serif\; font-size: 11pt\; color: rgb(36\, 36\, 36)\;">&nbsp\;</span></p>\n\n<p style="margin: 0in\;"><span style="font-family: Aptos\, sans-serif\; font-size: 11pt\; color: rgb(36\, 36\, 36)\;">Kelly McDonald has worked with global brands like Toyota\, Nike\, NASA\, and Harley-Davidson. Named one of the &ldquo\;10 Most Booked Speakers in the U.S.&rdquo\; and featured in Forbes\, INC. Magazine\, and CNBC\, Kelly brings her humor\, heart\, and real-world experience to the stage in this timely and impactful presentation.</span></p>\n\n<p style="margin: 0in\;"><span style="font-family: Aptos\, sans-serif\; font-size: 11pt\; color: rgb(36\, 36\, 36)\;">&nbsp\;</span></p>\n\n<p style="margin: 0in\;"><span style="font-family: Aptos\, sans-serif\; font-size: 11pt\; color: rgb(36\, 36\, 36)\;">What It&rsquo\;s About:</span></p>\n\n<p style="margin: 0in\;"><span style="font-family: Aptos\, sans-serif\; font-size: 11pt\; color: rgb(36\, 36\, 36)\;">Let&rsquo\;s face it\, we all want to get along with people\, but differences in opinion\, background\, communication style\, and even politics can make that feel impossible. In this engaging talk\, Kelly will share practical strategies to help us build stronger relationships\, have more productive conversations\, and connect more deeply with the people in our lives\, even when we don&rsquo\;t see eye to eye.</span></p>\n\n<p style="margin: 0in\;"><span style="font-family: Aptos\, sans-serif\; font-size: 11pt\; color: rgb(36\, 36\, 36)\;">&nbsp\;</span></p>\n\n<p style="margin: 0in\;"><span style="font-family: Aptos\, sans-serif\; font-size: 11pt\; color: rgb(36\, 36\, 36)\;">You&rsquo\;ll walk away with:</span></p>\n\n<ul style="margin-top: 0in\; margin-bottom: 0in\;">\n	<li style="font-family: Aptos\, sans-serif\; font-size: 12pt\; color: rgb(36\, 36\, 36)\; margin: 0in\;"><span role="presentation" style="font-size: 11pt\;">8 proven tactics for successful communication across differences</span></li>\n	<li style="font-family: Aptos\, sans-serif\; font-size: 12pt\; color: rgb(36\, 36\, 36)\; margin: 0in\;"><span role="presentation" style="font-size: 11pt\;">4 powerful words to transform tense conversations</span></li>\n	<li style="font-family: Aptos\, sans-serif\; font-size: 12pt\; color: rgb(36\, 36\, 36)\; margin: 0in\;"><span role="presentation" style="font-size: 11pt\;">Tools to lower stress\, reduce friction\, and build trust&mdash\;even in tough situations</span></li>\n</ul>\n\n<p style="margin: 0in\;"><span style="font-family: Aptos\, sans-serif\; font-size: 11pt\; color: rgb(36\, 36\, 36)\;">&nbsp\;</span></p>\n\n<p style="margin: 0in\;"><span style="font-family: Aptos\, sans-serif\; font-size: 11pt\; color: rgb(36\, 36\, 36)\;">Whether it&rsquo\;s your neighbor\, your coworker\, or your cousin at the next family dinner\, this talk is for everyone who&rsquo\;s ever wished for smoother conversations and stronger human connections.</span></p>\n\n<p style="margin: 0in\;"><span style="font-family: Aptos\, sans-serif\; font-size: 11pt\; color: rgb(36\, 36\, 36)\;">&nbsp\;</span></p>\n\n<p style="margin: 0in\;"><span style="font-family: Aptos\, sans-serif\; font-size: 11pt\; color: rgb(36\, 36\, 36)\;">Come for the insights. Stay for the sandwiches. Leave with tools to change your life.</span></p>\n\n<p style="margin: 0in\;"><span style="font-family: Aptos\, sans-serif\; font-size: 11pt\; color: rgb(36\, 36\, 36)\;">&nbsp\;</span></p>\n\n<p style="margin: 0in\;"><span style="font-family: Aptos\, sans-serif\; font-size: 11pt\; color: rgb(36\, 36\, 36)\;">RSVP by September 2<sup>nd</sup>.</span></p>\n\n<p style="margin: 0in\;"><span style="font-family: Aptos\, sans-serif\; font-size: 11pt\; color: rgb(36\, 36\, 36)\;">&nbsp\;</span></p>\n\n<p style="margin: 0in\;"><span style="font-family: Aptos\, sans-serif\; font-size: 11pt\; color: rgb(36\, 36\, 36)\;">To save your spot\, use the QR code\, &nbsp\;call 970-577-4370\, or click the link: : </span><span style="font-family: Aptos\, sans-serif\; font-size: 11pt\; color: rgb(70\, 120\, 134)\;"><u><a class="OWAAutoLink" data-auth="NotApplicable" data-linkindex="0" href="https://urldefense.proofpoint.com/v2/url?u=https-3A__forms.office.com_Pages_ResponsePage.aspx-3Fid-3Dv8c4rptfGk-2D78xJ7aSSo5FL0t1Xklp1Anf-2D2v4yUf-2DxUM1JCVjdMUlZaUjA4Rks5SjVSR09LM05YRy4u&amp\;d=DwMFAg&amp\;c=euGZstcaTDllvimEN8b7jXrwqOf-v5A_CdpgnVfiiMM&amp\;r=PgjeFE_DJ4zYhSI4DVgMalt-V3LG8bDC5tYEwxiNFSw&amp\;m=LvmDkYu8VooPN_exB7PC57mhZBVIEq0W_T8X7xk_KOTvh4FrdrjztLMdZVnmxCcz&amp\;s=ITlveqOr0HWCUlHZAV63stH5xgrE9g23WIWwuicMeGE&amp\;e=" id="OWA2c1a07c0-d9b0-b0ee-b403-613ea2da157d" style="color: rgb(70\, 120\, 134)\; margin: 0px\;" title="https://urldefense.proofpoint.com/v2/url?u=https-3A__forms.office.com_Pages_ResponsePage.aspx-3Fid-3Dv8c4rptfGk-2D78xJ7aSSo5FL0t1Xklp1Anf-2D2v4yUf-2DxUM1JCVjdMUlZaUjA4Rks5SjVSR09LM05YRy4u&amp\;d=DwMFAg&amp\;c=euGZstcaTDllvimEN8b7jXrwqOf-v5A_CdpgnVfiiMM&amp\;r=PgjeFE_DJ4zYhSI4DVgMalt-V3LG8bDC5tYEwxiNFSw&amp\;m=LvmDkYu8VooPN_exB7PC57mhZBVIEq0W_T8X7xk_KOTvh4FrdrjztLMdZVnmxCcz&amp\;s=ITlveqOr0HWCUlHZAV63stH5xgrE9g23WIWwuicMeGE&amp\;e=">https://forms.office.com/Pages/ResponsePage.aspx?id=v8c4rptfGk-78xJ7aSSo5FL0t1Xklp1Anf-2v4yUf-xUM1JCVjdMUlZaUjA4Rks5SjVSR09LM05YRy4u</a></u></span></p>\n
LOCATION:Place: Estes Valley Community Center Lower Level
UID:e.3592.13008
SEQUENCE:3
DTSTAMP:20260421T065553Z
URL:https://business.esteschamber.org/events/details/how-to-get-along-with-anyone-despite-your-differences-13008
END:VEVENT

END:VCALENDAR
