BEGIN:VCALENDAR
VERSION:2.0
PRODID:-//ChamberMaster//Event Calendar 2.0//EN
METHOD:PUBLISH
X-PUBLISHED-TTL:P3D
REFRESH-INTERVAL:P3D
CALSCALE:GREGORIAN
BEGIN:VEVENT
DTSTART:20251110T170000Z
DTEND:20251110T183000Z
X-MICROSOFT-CDO-ALLDAYEVENT:FALSE
SUMMARY:Learn with the League "2026 and Beyond: Priorities for the Town of Estes Park" Featuring Travis Machalek
DESCRIPTION:American Legion Hall\, 850 N. St. Vrain\n\nAll are welcome. No registration necessary.\n\nCome hear an update on the Town's priorities for the coming years.\n\n \n\nA presentation from Town Administrator Travis Machalek will be followed by an opportunity to ask questions.
X-ALT-DESC;FMTTYPE=text/html:<strong><span style="color:#C00000"><span style="font-family:arial"><span style="font-size:20.0pt">American Legion Hall\, 850 N. St. Vrain<br />\nAll are welcome. No registration necessary.</span></span></span></strong><br />\n<strong><span style="color:black"><span style="font-family:arial"><span style="font-size:20.0pt">Come hear an update on the Town&#39\;s priorities for the coming years.</span></span></span></strong><br />\n&nbsp\;<br />\n<strong><span style="color:black"><span style="font-family:arial"><span style="font-size:20.0pt">A presentation from Town Administrator Travis Machalek will be followed by an opportunity to ask questions.</span></span></span></strong><br />\n<br />\n&nbsp\;
LOCATION:American Legion Hall\, 850 N. St. Vrain
UID:e.3592.13693
SEQUENCE:3
DTSTAMP:20260421T110142Z
URL:https://business.esteschamber.org/events/details/learn-with-the-league-2026-and-beyond-priorities-for-the-town-of-estes-park-featuring-travis-machalek-13693
END:VEVENT

END:VCALENDAR
