BEGIN:VCALENDAR
VERSION:2.0
PRODID:-//ChamberMaster//Event Calendar 2.0//EN
METHOD:PUBLISH
X-PUBLISHED-TTL:P3D
REFRESH-INTERVAL:P3D
CALSCALE:GREGORIAN
BEGIN:VEVENT
DTSTART;VALUE=DATE:20260109
DTEND;VALUE=DATE:20260210
TRANSP:TRANSPARENT
X-MICROSOFT-CDO-ALLDAYEVENT:TRUE
SUMMARY:"Meet the New Artists"
DESCRIPTION:The first show of every year\, the Art Center features the artist members who joined us the previous year. They are:\n\nJanine Belletire - Pastel\, Chris Crew - Photography\, Kay Keyes Farrar - Oil\, Stephen Goddard - Prints and Etchings and Mark Nelson - Artisan Jewelry.
X-ALT-DESC;FMTTYPE=text/html:The first show of every year\, the Art Center features the artist members who joined us the previous year. They are:<br />\nJanine Belletire - Pastel\, Chris Crew - Photography\, Kay Keyes Farrar - Oil\, Stephen Goddard - Prints and Etchings and Mark Nelson - Artisan Jewelry.
LOCATION:Art Center of Estes Park. 517 Big Thompson Ave. Middle Stanley Village between Safeway and subway.
UID:e.3592.14356
SEQUENCE:3
DTSTAMP:20260422T114355Z
URL:https://business.esteschamber.org/events/details/meet-the-new-artists-01-09-2026-14356
END:VEVENT

END:VCALENDAR
