BEGIN:VCALENDAR
VERSION:2.0
PRODID:-//ChamberMaster//Event Calendar 2.0//EN
METHOD:PUBLISH
X-PUBLISHED-TTL:P3D
REFRESH-INTERVAL:P3D
CALSCALE:GREGORIAN
BEGIN:VEVENT
DTSTART;VALUE=DATE:20251114
DTEND;VALUE=DATE:20251223
TRANSP:TRANSPARENT
X-MICROSOFT-CDO-ALLDAYEVENT:TRUE
SUMMARY:New Exhibit Opening: "Brushstrokes and Beyond"
DESCRIPTION:New Exhibit Opening featuring Artist Member Eileen Van Baren\, Oils and Acrylics.  Opening Reception November 14  5 - 7 Refreshment provided. Opening Weekend Door Prize The Public is invited to enter their name for the Door Prize donated by Eileen Van Baren being offered. Entries can be made between 11 am November 14 to 5 pm November 17 at which time a name will be drawn and the winner notified.
X-ALT-DESC;FMTTYPE=text/html:<p><span style="font-family:arial\,helvetica\,sans-serif">New Exhibit Opening featuring Artist Member Eileen Van Baren\, Oils and Acrylics.&nbsp\; Opening Reception November 14&nbsp\; 5 - 7 Refreshment provided. Opening Weekend Door Prize&nbsp\;<span style="color:black">The Public is invited to enter their name for the Door Prize donated by Eileen Van Baren being offered. Entries can be made between 11 am November 14 to 5 pm November 17 at which time a name will be drawn and the winner notified.</span></span></p>\n<br />\n&nbsp\;
LOCATION:Art Center of Estes Park 517 Big Thompson Ave. Middle Stanley Village between Safeway and Subway.
UID:e.3592.14314
SEQUENCE:3
DTSTAMP:20260421T094425Z
URL:https://business.esteschamber.org/events/details/new-exhibit-opening-brushstrokes-and-beyond-14314
END:VEVENT

END:VCALENDAR
