BEGIN:VCALENDAR
VERSION:2.0
PRODID:-//ChamberMaster//Event Calendar 2.0//EN
METHOD:PUBLISH
X-PUBLISHED-TTL:P3D
REFRESH-INTERVAL:P3D
CALSCALE:GREGORIAN
BEGIN:VEVENT
DTSTART:20250701T170000Z
DTEND:20250701T190000Z
X-MICROSOFT-CDO-ALLDAYEVENT:FALSE
SUMMARY:Painting Techniques Classes
DESCRIPTION:Unleash your inner artist in this expert-led ceramic painting class! Perfect for beginners and creatives alike\, this hands-on workshop guides you step by step through painting your own ceramic piece   from color planning to brush techniques and design tips. Classes will rotate a variety of ceramic items like mugs\, plates\, or small bowls\, then bring your vision to life with high-quality\, kiln-safe glazes.\n\nYour finished piece will be professionally fired and ready for pickup in 3 days\, resulting in a glossy\, food-safe keepsake you'll be proud to use or gift. Shipping is available.\n\nIncludes: One ceramic piece\, all painting materials\, instruction\, and kiln firing\n\nGreat for: Relaxing solo time\, dates\, and creative gatherings
X-ALT-DESC;FMTTYPE=text/html:<p>Unleash your inner artist in this expert-led ceramic painting class! Perfect for beginners and creatives alike\, this hands-on workshop guides you step by step through painting your own ceramic piece &mdash\; from color planning to brush techniques and design tips. Classes will rotate a variety of ceramic items like mugs\, plates\, or small bowls\, then bring your vision to life with high-quality\, kiln-safe glazes.</p>\n\n<p>Your finished piece will be professionally fired and ready for pickup in 3 days\, resulting in a glossy\, food-safe keepsake you&rsquo\;ll be proud to use or gift. Shipping is available.</p>\n\n<p><strong>Includes:</strong>&nbsp\;One ceramic piece\, all painting materials\, instruction\, and kiln firing<br />\n<strong>Great for:</strong>&nbsp\;Relaxing solo time\, dates\, and creative gatherings</p>\n
LOCATION:Creativity Cabin 342 West Riverside Dr Estes Park\, CO
UID:e.3592.12752
SEQUENCE:3
DTSTAMP:20260421T051355Z
URL:https://business.esteschamber.org/events/details/painting-techniques-classes-07-01-2025-12752
END:VEVENT

END:VCALENDAR
