BEGIN:VCALENDAR
VERSION:2.0
PRODID:-//ChamberMaster//Event Calendar 2.0//EN
METHOD:PUBLISH
X-PUBLISHED-TTL:P3D
REFRESH-INTERVAL:P3D
CALSCALE:GREGORIAN
BEGIN:VEVENT
DTSTART:20250711T210000Z
DTEND:20250711T220000Z
X-MICROSOFT-CDO-ALLDAYEVENT:FALSE
SUMMARY:Pilates & Pints
DESCRIPTION:Join Jenn for a fun filled Friday afternoon @ the Holiday Inn - Latitude 105 for Mat Pilates Class followed by Social Hour\n\n$20 includes class and a drink\n\nAppetizer specials will be available for purchase by the host Latitude 105\n\nBring your mat\, bring a friend and have some fun!
X-ALT-DESC;FMTTYPE=text/html:<span style="color: rgb(0\, 0\, 0)\; font-family: &quot\;Nunito Sans&quot\;\, sans-serif\; font-size: 14px\;">Join Jenn for a fun filled Friday afternoon @ the&nbsp\;</span><span style="box-sizing: inherit\; font-weight: 700\; margin-right: 5px\; color: rgb(0\, 0\, 0)\; font-family: &quot\;Nunito Sans&quot\;\, sans-serif\; font-size: 14px\;">Holiday Inn - Latitude 105 for Mat Pilates Class followed by Social Hour<br style="box-sizing: inherit\;" />\n$20 includes class and a drink</span><br style="box-sizing: inherit\; color: rgb(0\, 0\, 0)\; font-family: &quot\;Nunito Sans&quot\;\, sans-serif\; font-size: 14px\;" />\n<span style="color: rgb(0\, 0\, 0)\; font-family: &quot\;Nunito Sans&quot\;\, sans-serif\; font-size: 14px\;">Appetizer specials will be available for purchase by the host Latitude 105</span><br style="box-sizing: inherit\; color: rgb(0\, 0\, 0)\; font-family: &quot\;Nunito Sans&quot\;\, sans-serif\; font-size: 14px\;" />\n<span style="color: rgb(0\, 0\, 0)\; font-family: &quot\;Nunito Sans&quot\;\, sans-serif\; font-size: 14px\;">Bring your mat\, bring a friend and have some fun!</span>
LOCATION:@ the Holiday Inn - Latitude 105
UID:e.3592.12997
SEQUENCE:3
DTSTAMP:20260421T051247Z
URL:https://business.esteschamber.org/events/details/pilates-pints-12997
END:VEVENT

END:VCALENDAR
