BEGIN:VCALENDAR
VERSION:2.0
PRODID:-//ChamberMaster//Event Calendar 2.0//EN
METHOD:PUBLISH
X-PUBLISHED-TTL:P3D
REFRESH-INTERVAL:P3D
CALSCALE:GREGORIAN
BEGIN:VEVENT
DTSTART:20260422T230000Z
DTEND:20260423T010000Z
X-MICROSOFT-CDO-ALLDAYEVENT:FALSE
SUMMARY:Pints & Plants Bingo Night
DESCRIPTION:Pints & Plants Bingo Night: An Earth Day Celebration\n\nCelebrate Earth Day during a fun evening of bingo\, brews\, and greenery! Join us for plant-themed bingo rounds\, where you can win houseplants and garden-inspired prizes while connecting with fellow business professionals in a relaxed\, welcoming setting.\n\nYour registration includes one beer from the brewery and entry into all bingo rounds. For an extra twist\, try the "Earth Day Blackout" round for a featured plant prize and a little friendly competition.\n\nSpace is limited\, this is a great opportunity to network\, unwind\, and celebrate our planet together.\n\nPricing:\n\nChamber Members: $15\n\nNon-Members: $20\n\nCome sip\, play\, and grow your plant collection this Earth Day!
X-ALT-DESC;FMTTYPE=text/html:<p data-end="191" data-start="133"><strong data-end="189" data-start="133">Pints &amp\; Plants Bingo Night: An Earth Day Celebration</strong></p>\n\n<p data-end="460" data-start="193">Celebrate Earth Day during a fun evening of bingo\, brews\, and greenery! Join us for plant-themed bingo rounds\, where you can win houseplants and garden-inspired prizes while connecting with fellow business professionals in a relaxed\, welcoming setting.</p>\n\n<p data-end="666" data-start="462">Your registration includes one beer from the brewery and entry into all bingo rounds. For an extra twist\, try the &ldquo\;Earth Day Blackout&rdquo\; round for a featured plant prize and a little friendly competition.</p>\n\n<p data-end="799" data-start="668">Space is limited\, this is a great opportunity to network\, unwind\, and celebrate our planet together.</p>\n\n<p data-end="857" data-start="801"><strong data-end="813" data-start="801">Pricing:</strong><br data-end="816" data-start="813" />\nChamber Members: $15<br data-end="839" data-start="836" />\nNon-Members: $20</p>\n\n<p data-end="977" data-start="859">Come sip\, play\, and grow your plant collection this Earth Day!</p>\n
LOCATION:Avant Garde Aleworks 920 Dunraven Street Estes Park
UID:e.3592.14403
SEQUENCE:3
DTSTAMP:20260422T102936Z
URL:https://business.esteschamber.org/events/details/pints-plants-bingo-night-14403
END:VEVENT

END:VCALENDAR
