BEGIN:VCALENDAR
VERSION:2.0
PRODID:-//ChamberMaster//Event Calendar 2.0//EN
METHOD:PUBLISH
X-PUBLISHED-TTL:P3D
REFRESH-INTERVAL:P3D
CALSCALE:GREGORIAN
BEGIN:VEVENT
DTSTART;VALUE=DATE:20251003
DTEND;VALUE=DATE:20251111
TRANSP:TRANSPARENT
X-MICROSOFT-CDO-ALLDAYEVENT:TRUE
SUMMARY:"Reflections of the West"
DESCRIPTION:New Exhibit Opening\, featuring Artist Members Connie Schmidt\, Watercolors and Pat Sebern\, Pastels and Oils. Two Door Prizes are being offered and the Public is invited to enter their names for one or both betweenm11am October 3 to 5pm October 6 at which time names will be drawn and the winners notified.
X-ALT-DESC;FMTTYPE=text/html:New Exhibit Opening\, featuring Artist Members Connie Schmidt\, Watercolors and Pat Sebern\, Pastels and Oils. Two Door Prizes are being offered and the Public is invited to enter their names for one or both betweenm11am October 3 to 5pm October 6 at which time names will be drawn and the winners notified.
LOCATION:Art Center of Estes Park. Middle Stanley Village between Safeway and Subway.
UID:e.3592.13685
SEQUENCE:3
DTSTAMP:20260421T092510Z
URL:https://business.esteschamber.org/events/details/reflections-of-the-west-13685
END:VEVENT

END:VCALENDAR
