BEGIN:VCALENDAR
VERSION:2.0
PRODID:-//ChamberMaster//Event Calendar 2.0//EN
METHOD:PUBLISH
X-PUBLISHED-TTL:P3D
REFRESH-INTERVAL:P3D
CALSCALE:GREGORIAN
BEGIN:VEVENT
DTSTART:20250912T223000Z
DTEND:20250913T003000Z
X-MICROSOFT-CDO-ALLDAYEVENT:FALSE
SUMMARY:Ribbon Cutting: Bank of Estes Park
DESCRIPTION:Ribbon cutting at Bank of Estes Park: The only local bank in town (and the oldest one standing!) invites you to come celebrate our 60th birthday/anniversary with drinks\, food\, and fun!  Come check out our newly remodeled conference room\, available for community use\, and let us show you the major changes we've made over the past few years.  Friday\, September 12th\, 4:30 to 6:30\, 255 Park Lane.  See you then!
X-ALT-DESC;FMTTYPE=text/html:<span style="color: rgb(36\, 36\, 36)\; font-family: Aptos\, sans-serif\; font-size: 14.6667px\;">Ribbon cutting at Bank of Estes Park: The only local bank in town (and the oldest one standing!) invites you to come celebrate our 60</span><sup style="color: rgb(36\, 36\, 36)\; font-family: Aptos\, sans-serif\;">th</sup><span style="color: rgb(36\, 36\, 36)\; font-family: Aptos\, sans-serif\; font-size: 14.6667px\;">&nbsp\;birthday/anniversary with drinks\, food\, and fun!&nbsp\; Come check out our newly remodeled conference room\, available for community use\, and let us show you the major changes we&rsquo\;ve made over the past few years.&nbsp\; Friday\, September 12</span><sup style="color: rgb(36\, 36\, 36)\; font-family: Aptos\, sans-serif\;">th</sup><span style="color: rgb(36\, 36\, 36)\; font-family: Aptos\, sans-serif\; font-size: 14.6667px\;">\, 4:30 to 6:30\, 255 Park Lane.&nbsp\; See you then!</span>
LOCATION:255 Park Lane Estes Park
UID:e.3592.13003
SEQUENCE:3
DTSTAMP:20260421T083405Z
URL:https://business.esteschamber.org/events/details/ribbon-cutting-bank-of-estes-park-13003
END:VEVENT

END:VCALENDAR
