BEGIN:VCALENDAR
VERSION:2.0
PRODID:-//ChamberMaster//Event Calendar 2.0//EN
METHOD:PUBLISH
X-PUBLISHED-TTL:P3D
REFRESH-INTERVAL:P3D
CALSCALE:GREGORIAN
BEGIN:VEVENT
DTSTART:20260501T230000Z
DTEND:20260501T233000Z
X-MICROSOFT-CDO-ALLDAYEVENT:FALSE
SUMMARY:Ribbon Cutting: Creativity Cabin and Inspired Art Experiences New Partnership
DESCRIPTION:Creativity Cabin and Inspired Art Experiences Announce New Partnership\,\n\nExpanding Creative Opportunities in Estes Park\n\nEstes Park\, Colorado   Creativity Cabin\, located at 342 W. Riverside Drive\, is\n\nexcited to announce a new partnership with Natalie Patrick\, owner of Inspired Art\n\nExperiences\, bringing together two creative forces to offer an expanded range of\n\nhands-on art experiences for both locals and visitors in Estes Park.\n\nCreativity Cabin\, founded by Patti Aldridge\, has become a beloved destination in the\n\ncommunity for approachable\, joy-filled art experiences. Creativity Cabin focuses\n\nespecially on kiln-fired arts including painting ceramics and stoneware\; hand-molded or\n\nslab rolled clay projects and will be introducing small wheels this year. Other\n\nexperiences include introduction to stained glass\, glass etching and mosaic art.\n\nInspired Art Experiences\, led by Natalie Patrick\, shares that same passion for creativity\n\nand connection. With a focus on using fun materials to create unique\, one-of-a-kind\n\nprojects\, Inspired has built a reputation for helping people tap into their creativity\n\nthrough thoughtfully designed classes\, workshops\, and art kits. Inspired offers art\n\nexperiences in Alcohol Inks\, Wood Burning\, Marbling and much more. They also have\n\nover 12 different art kits for artists to be able to either make in studio or take home to\n\ncreate.\n\nBoth spaces are known for their welcoming and supportive atmosphere and wide variety\n\nof creative options that provide opportunities for all ages and skill levels to explore\n\nartistic expression in a relaxed\, encouraging environment. Creativity Cabin and Inspired\n\nserendipitously opened in the same year\, 2019\, and have both worked to create\n\nmeaningful and memorable experiences for their customers.\n\n"We realized that we have a shared mission. It's two-fold: first\, we want to share the\n\nmindful experience of creating that is so important for resiliency and total mind/body\n\nhealth. Second\, we are here to instill that everyone can do art. Creativity is an exercise\;\n\nand the more you engage with it\, the stronger it becomes. To those ends\, we offer\n\nexcellent customer service and individualized support and encouragement. With\n\nInspired moving in with Creativity Cabin\, we can work together to allow us to offer more\n\nopportunities for creative exploration and combine forces to spread more joy in the\n\ncreative process."\n\nTogether\, Patti and Natalie are creating something truly special offering an even\n\nbroader range of art-centered experiences all under one roof. Guests can now enjoy\n\neverything from ceramics to watercolor in a conveniently located\, one-stop-art-shop.\n\nWhether you're a seasoned artist or just looking to try something new\, there is truly\n\nsomething for everyone.\n\nWith Mother's Day just around the corner\, this partnership comes at the perfect time.\n\nCreativity Cabin with Inspired is a sweet spot for kids to create a meaningful\, handmade\n\ngift or for families to enjoy a creative outing together. It's also an ideal venue for\n\ngatherings of all kinds\, including bridal showers\, bachelorette parties\, birthday parties\,\n\nfamily reunions\, girls' weekends or nights out\, and team-building events.\n\nAt its heart\, this partnership is about more than art\, it's about creating experiences that\n\nbring people together. It's about making memories\, fostering connection\, and giving the\n\nEstes Park community and its visitors a special place to be creative and inspired.\n\nA ribbon cutting event marking their new collaboration will be held on May 1st at 5:00.\n\nCome check out the shared space\, learn more about our classes and upcoming\n\nworkshops\, and then join the Arts District for the First Friday Art Groove around town.\n\nFor more information\, visit:\n\n  www.createinestes.com\n\n  www.inspiredartexperiences.com
X-ALT-DESC;FMTTYPE=text/html:Creativity Cabin and Inspired Art Experiences Announce New Partnership\,<br />\nExpanding Creative Opportunities in Estes Park<br />\nEstes Park\, Colorado &mdash\; Creativity Cabin\, located at 342 W. Riverside Drive\, is<br />\nexcited to announce a new partnership with Natalie Patrick\, owner of Inspired Art<br />\nExperiences\, bringing together two creative forces to offer an expanded range of<br />\nhands-on art experiences for both locals and visitors in Estes Park.<br />\nCreativity Cabin\, founded by Patti Aldridge\, has become a beloved destination in the<br />\ncommunity for approachable\, joy-filled art experiences. Creativity Cabin focuses<br />\nespecially on kiln-fired arts including painting ceramics and stoneware\; hand-molded or<br />\nslab rolled clay projects and will be introducing small wheels this year. Other<br />\nexperiences include introduction to stained glass\, glass etching and mosaic art.<br />\nInspired Art Experiences\, led by Natalie Patrick\, shares that same passion for creativity<br />\nand connection. With a focus on using fun materials to create unique\, one-of-a-kind<br />\nprojects\, Inspired has built a reputation for helping people tap into their creativity<br />\nthrough thoughtfully designed classes\, workshops\, and art kits. Inspired offers art<br />\nexperiences in Alcohol Inks\, Wood Burning\, Marbling and much more. They also have<br />\nover 12 different art kits for artists to be able to either make in studio or take home to<br />\ncreate.<br />\nBoth spaces are known for their welcoming and supportive atmosphere and wide variety<br />\nof creative options that provide opportunities for all ages and skill levels to explore<br />\nartistic expression in a relaxed\, encouraging environment. Creativity Cabin and Inspired<br />\nserendipitously opened in the same year\, 2019\, and have both worked to create<br />\nmeaningful and memorable experiences for their customers.<br />\n&ldquo\;We realized that we have a shared mission. It&rsquo\;s two-fold: first\, we want to share the<br />\nmindful experience of creating that is so important for resiliency and total mind/body<br />\nhealth. Second\, we are here to instill that everyone can do art. Creativity is an exercise\;<br />\nand the more you engage with it\, the stronger it becomes. To those ends\, we offer<br />\nexcellent customer service and individualized support and encouragement. With<br />\nInspired moving in with Creativity Cabin\, we can work together to allow us to offer more<br />\nopportunities for creative exploration and combine forces to spread more joy in the<br />\ncreative process.&rdquo\;<br />\nTogether\, Patti and Natalie are creating something truly special&mdash\;offering an even<br />\nbroader range of art-centered experiences all under one roof. Guests can now enjoy<br />\neverything from ceramics to watercolor in a conveniently located\, one-stop-art-shop.<br />\nWhether you&rsquo\;re a seasoned artist or just looking to try something new\, there is truly<br />\nsomething for everyone.<br />\nWith Mother&rsquo\;s Day just around the corner\, this partnership comes at the perfect time.<br />\nCreativity Cabin with Inspired is a sweet spot for kids to create a meaningful\, handmade<br />\ngift or for families to enjoy a creative outing together. It&rsquo\;s also an ideal venue for<br />\ngatherings of all kinds\, including bridal showers\, bachelorette parties\, birthday parties\,<br />\nfamily reunions\, girls&rsquo\; weekends or nights out\, and team-building events.<br />\nAt its heart\, this partnership is about more than art\, it&rsquo\;s about creating experiences that<br />\nbring people together. It&rsquo\;s about making memories\, fostering connection\, and giving the<br />\nEstes Park community and its visitors a special place to be creative and inspired.<br />\nA ribbon cutting event marking their new collaboration will be held on May 1st at 5:00.<br />\nCome check out the shared space\, learn more about our classes and upcoming<br />\nworkshops\, and then join the Arts District for the First Friday Art Groove around town.<br />\nFor more information\, visit:<br />\n&bull\; www.createinestes.com<br />\n&bull\; www.inspiredartexperiences.com
LOCATION:Creativity Cabin 342 W Riverside Drive Estes Park\, CO.
UID:e.3592.14452
SEQUENCE:3
DTSTAMP:20260424T095836Z
URL:https://business.esteschamber.org/events/details/ribbon-cutting-creativity-cabin-and-inspired-art-experiences-new-partnership-14452
END:VEVENT

END:VCALENDAR
