BEGIN:VCALENDAR
VERSION:2.0
PRODID:-//ChamberMaster//Event Calendar 2.0//EN
METHOD:PUBLISH
X-PUBLISHED-TTL:P3D
REFRESH-INTERVAL:P3D
CALSCALE:GREGORIAN
BEGIN:VEVENT
DTSTART:20251024T210000Z
DTEND:20251024T223000Z
X-MICROSOFT-CDO-ALLDAYEVENT:FALSE
SUMMARY:Ribbon Cutting: Estes Park Yoga
DESCRIPTION:Estes Park Yoga is celebrating a move to a larger space\, 10 years serving the Estes Park community\, and joining the Estes Chamber of Commerce!\n\n\n\nThe Estes Chamber of Commerce will meet at Estes Park Yoga's studio space in Lower Stanley Village on Friday\, October 24th at 3pm for a Red Ribbon Cutting Ceremony followed by a free yoga class to help the business community wind down on a Friday afternoon after a vibrant and active visitor season.\n\n\n\nYoga Class: Come as you are! All Levels classes are suitable for beginners\, masters and everyone in between. Enjoy a centering class that includes a bit of alignment and a bit of flow. We move and breathe\, taking time to pause and feel\, observe and adjust. Class is designed around the alignment principles of a specific pose or groups of poses that are meant to connect the body and mind in a meaningful way. Modifications and variations are offered to make this class accessible to anyone.\n\nRegister for class here: https://estesparkyoga.punchpass.com/classes/18396363?source=cal
X-ALT-DESC;FMTTYPE=text/html:<span style="font-size:14px\;"><span style="font-family:arial\;"><span style="color: rgb(36\, 36\, 36)\;">Estes Park Yoga is celebrating a move to a larger space\, 10 years serving the Estes Park community\, and joining the Estes Chamber of Commerce!</span><br style="color: rgb(36\, 36\, 36)\; font-family: &quot\;Segoe UI&quot\;\, &quot\;Segoe UI Web (West European)&quot\;\, -apple-system\, BlinkMacSystemFont\, Roboto\, &quot\;Helvetica Neue&quot\;\, sans-serif\; font-size: 14.6667px\;" />\n<br style="color: rgb(36\, 36\, 36)\; font-family: &quot\;Segoe UI&quot\;\, &quot\;Segoe UI Web (West European)&quot\;\, -apple-system\, BlinkMacSystemFont\, Roboto\, &quot\;Helvetica Neue&quot\;\, sans-serif\; font-size: 14.6667px\;" />\n<span style="color: rgb(36\, 36\, 36)\;">The Estes Chamber of Commerce will meet at Estes Park Yoga&rsquo\;s studio space in Lower Stanley Village on Friday\, October 24th at 3pm for a Red Ribbon Cutting Ceremony followed by a free yoga class to help the business community wind down on a Friday afternoon after a vibrant and active visitor season.<br />\n<br />\nYoga Class:&nbsp\;</span><span style="color: rgb(30\, 49\, 65)\;">Come as you are! All Levels classes are suitable for beginners\, masters and everyone in between. Enjoy a centering class that includes a bit of alignment and a bit of flow. We move and breathe\, taking time to pause and feel\, observe and adjust. Class is designed around the alignment principles of a specific pose or groups of poses that are meant to connect the body and mind in a meaningful way. Modifications and variations are offered to make this class accessible to anyone.<br />\nRegister for class here:&nbsp\;</span>https://estesparkyoga.punchpass.com/classes/18396363?source=cal</span></span><br />\n&nbsp\;
LOCATION:517 Big Thompson Ave #105 Estes Park\, CO
UID:e.3592.13684
SEQUENCE:3
DTSTAMP:20260421T094550Z
URL:https://business.esteschamber.org/events/details/ribbon-cutting-estes-park-yoga-13684
END:VEVENT

END:VCALENDAR
