BEGIN:VCALENDAR
VERSION:2.0
PRODID:-//ChamberMaster//Event Calendar 2.0//EN
METHOD:PUBLISH
X-PUBLISHED-TTL:P3D
REFRESH-INTERVAL:P3D
CALSCALE:GREGORIAN
BEGIN:VEVENT
DTSTART:20250613T223000Z
DTEND:20250613T233000Z
X-MICROSOFT-CDO-ALLDAYEVENT:FALSE
SUMMARY:Ribbon Cutting: Ride A Kart 2025
DESCRIPTION:Join us for a Ribbon Cutting to celebrate the new addition of ELECTIRC GAMIFIED GO-KARTS @ Ride A Kart! \n\n	\n		\n			\n			Ride A Kart has been Estes Park's Premiere Family Entertainment Center for over 60 years. We are a 3rd generation family owned business and proud to be part of the community and help provide lasting memories for our guests for generations to come.\n			\n			 \n			 \n		\n	\n\n\n\n	\n		\n			\n			We're bringing in new electric go-karts that'll make you feel like you're dodging turtle shells and chasing coins. We are thrilled to be bring this new attraction to the Estes Park community!\n			\n			 \n		\n	\n\nGot plumber overalls\, a princess crown\, or a turtle shell? Show up in video game racing character and score 50% off go-kart tickets.\n\nJoin the celebration\, Mangia Mangia food truck will be on site serving their amazing pizzas!
X-ALT-DESC;FMTTYPE=text/html:<span style="font-size:12px\;"><span style="font-family:arial\;"><strong>Join us for a Ribbon Cutting to celebrate the new addition of ELECTIRC GAMIFIED GO-KARTS @ Ride A Kart!&nbsp\;</strong></span></span>\n<table class="form-results table table-condensed" style="border-collapse: collapse\; border: 0px\; border-spacing: 0px\; max-width: 100%\; width: 1471.71px\; margin-bottom: 20px\; position: relative\; color: rgb(51\, 51\, 51)\; font-family: Roboto\, sans-serif\; font-size: 14px\;">\n	<tbody style="box-sizing: border-box\;">\n		<tr class="ng-scope info" ng-class="{info:$index %2 == 0\, active: $index %2 != 0}" ng-repeat="submission in submissions|byDate:filterDate" style="box-sizing: border-box\;">\n			<td class="ng-scope" ng-repeat="response in submission.Responses track by $index" style="box-sizing: border-box\; padding: 2px 5px\; line-height: 1.42857\; vertical-align: top\; border-top: 1px solid rgb(221\, 221\, 221)\; font-size: 0.9em\; background-color: rgb(217\, 237\, 247)\;">\n			<div class="ng-scope ng-binding" ng-bind="response.Value" ng-if="!isUploadField(response.FieldType)" style="box-sizing: border-box\;"><span style="font-size:12px\;"><span style="font-family:arial\;">Ride A Kart has been Estes Park&rsquo\;s Premiere Family Entertainment Center for over 60 years. We are a 3rd generation family owned business and proud to be part of the community and help provide lasting memories for our guests for generations to come.</span></span></div>\n			</td>\n			<td class="ng-scope" ng-repeat="response in submission.Responses track by $index" style="box-sizing: border-box\; padding: 2px 5px\; line-height: 1.42857\; vertical-align: top\; border-top: 1px solid rgb(221\, 221\, 221)\; font-size: 0.9em\; background-color: rgb(217\, 237\, 247)\;">&nbsp\;</td>\n			<td class="ng-scope" ng-repeat="response in submission.Responses track by $index" style="box-sizing: border-box\; padding: 2px 5px\; line-height: 1.42857\; vertical-align: top\; border-top: 1px solid rgb(221\, 221\, 221)\; font-size: 0.9em\; background-color: rgb(217\, 237\, 247)\;">&nbsp\;</td>\n		</tr>\n	</tbody>\n</table>\n\n<table class="form-results table table-condensed" style="border-collapse: collapse\; border: 0px\; border-spacing: 0px\; max-width: 100%\; width: 1471.71px\; margin-bottom: 20px\; position: relative\; color: rgb(51\, 51\, 51)\; font-family: Roboto\, sans-serif\; font-size: 14px\;">\n	<tbody>\n		<tr>\n			<td class="ng-scope" ng-repeat="response in submission.Responses track by $index" style="box-sizing: border-box\; padding: 2px 5px\; line-height: 1.42857\; vertical-align: top\; border-top: 1px solid rgb(221\, 221\, 221)\; font-size: 0.9em\; background-color: rgb(217\, 237\, 247)\;">\n			<div class="ng-scope ng-binding" ng-bind="response.Value" ng-if="!isUploadField(response.FieldType)" style="box-sizing: border-box\;"><span style="font-size:12px\;"><span style="font-family:arial\;">We&rsquo\;re bringing in new electric go-karts that&rsquo\;ll make you feel like you&rsquo\;re dodging turtle shells and chasing coins. We are thrilled to be bring this new attraction to the Estes Park community!</span></span></div>\n			</td>\n			<td class="ng-scope" ng-repeat="response in submission.Responses track by $index" style="box-sizing: border-box\; padding: 2px 5px\; line-height: 1.42857\; vertical-align: top\; border-top: 1px solid rgb(221\, 221\, 221)\; font-size: 0.9em\; background-color: rgb(217\, 237\, 247)\;">&nbsp\;</td>\n		</tr>\n	</tbody>\n</table>\n<span style="font-size:12px\;"><span style="font-family:arial\;"><span style="color: rgb(51\, 51\, 51)\; background-color: rgb(217\, 237\, 247)\;">Got plumber overalls\, a princess crown\, or a turtle shell? Show up in video game racing character and score 50% off go-kart tickets.</span></span></span><br />\nJoin the celebration\, Mangia Mangia food truck will be on site serving their amazing pizzas!
LOCATION:Ride A Kart 2250 Big Thompson Ave Estes Park\, CO 80517
UID:e.3592.12174
SEQUENCE:3
DTSTAMP:20260421T035543Z
URL:https://business.esteschamber.org/events/details/ribbon-cutting-ride-a-kart-2025-12174
END:VEVENT

END:VCALENDAR
