BEGIN:VCALENDAR
VERSION:2.0
PRODID:-//ChamberMaster//Event Calendar 2.0//EN
METHOD:PUBLISH
X-PUBLISHED-TTL:P3D
REFRESH-INTERVAL:P3D
CALSCALE:GREGORIAN
BEGIN:VEVENT
DTSTART;VALUE=DATE:20260502
DTEND;VALUE=DATE:20260504
TRANSP:TRANSPARENT
X-MICROSOFT-CDO-ALLDAYEVENT:TRUE
SUMMARY:Sidewalk Sale: May 2 & 3\, 2026
DESCRIPTION:Twice a year in May and October\, businesses are allowed to put displays on the sidewalks -- usually with low-price or clearance merchandise.
X-ALT-DESC;FMTTYPE=text/html:Twice a year in May and October\, businesses are allowed to put displays on the sidewalks -- usually with low-price or clearance merchandise.
LOCATION:Sidewalk Sale Guidelines Hours of operation shall be from 10:00 a.m. - 5:00 p.m. The Sale Weekend is available to all Estes Park businesses. The Sale Weekend will be held rain or shine. Businesses will be allowed to sell merchandise in front of their stores only during the hours specified above.
UID:e.3592.14345
SEQUENCE:3
DTSTAMP:20260422T085337Z
URL:https://business.esteschamber.org/events/details/sidewalk-sale-may-2-3-2026-14345
END:VEVENT

END:VCALENDAR
