BEGIN:VCALENDAR
VERSION:2.0
PRODID:-//ChamberMaster//Event Calendar 2.0//EN
METHOD:PUBLISH
X-PUBLISHED-TTL:P3D
REFRESH-INTERVAL:P3D
CALSCALE:GREGORIAN
BEGIN:VEVENT
DTSTART;VALUE=DATE:20250201
DTEND;VALUE=DATE:20250301
TRANSP:TRANSPARENT
X-MICROSOFT-CDO-ALLDAYEVENT:TRUE
SUMMARY:Stout Month at Avant Garde Aleworks
DESCRIPTION:February is Stout Month at Avant Garde! Find FIVE new imperial stouts on tap and in cans to go\, with new releases happening every Saturday throughout February. Here's a full schedule of Stout Month festivities:\n\n\n	Saturday\, February 1st   OG Imperial Stout & a brand new flavor   French Toast Imperial Stout will be available on tap\, and to-go as 16oz single cans and four packs\, while supplies last. Four packs will be available in the taproom and via our online store (for in-store pickup only   we do not ship beer).\n	Saturday\, February 8th   Another new flavor   Dark Chocolate Orange Imperial Stout hits the taps today. This variation will be available on tap\, and to-go as 16oz single cans and four packs\, while supplies last. Plus we're hosting a Stout Month Ice Cream Social from 2-6pm: Pair your favorite Imperial Stout or other Avant Garde beer with a scoop of ice cream! Non-alcoholic soda floats will also be available!\n	Saturday\, February 15th   Today marks the return of a Stout Month favorite   Kind Coffee Imperial Stout\, brewed with local beans from Kind Coffee. This variation will be available on tap\, and to-go as 16oz single cans and four packs\, while supplies last.\n	Saturday\, February 22nd   Last but not least   Toasted Coconut Imperial Stout is back today! This variation will be available on tap\, and to-go as 16oz single cans and four packs\, while supplies last. Plus\, pair your stout with a Girl Scout Cookie flight\, available all day in the taproom.
X-ALT-DESC;FMTTYPE=text/html:<p>February is Stout Month at Avant Garde! Find&nbsp\;FIVE new imperial stouts&nbsp\;on tap and in cans to go\, with new releases happening every Saturday throughout February. Here&#39\;s a full schedule of Stout Month festivities:</p>\n\n<ul>\n	<li><strong>Saturday\, February 1st</strong>&nbsp\;&ndash\; <em>OG Imperial Stout</em> &amp\; a brand new flavor &ndash\; <em>French Toast Imperial Stout</em> will be available on tap\, and to-go as 16oz single cans and four packs\, while supplies last. Four packs will be available in the taproom and via our online store (for in-store pickup only &ndash\; we do not ship beer).</li>\n	<li><strong>Saturday\, February 8th</strong>&nbsp\;&ndash\; Another new flavor &ndash\; <em>Dark Chocolate Orange Imperial Stout</em> hits the taps today. This variation will be available on tap\, and to-go as 16oz single cans and four packs\, while supplies last. Plus we&rsquo\;re hosting a Stout Month Ice Cream Social from 2-6pm: Pair your favorite Imperial Stout or other Avant Garde beer with a scoop of ice cream! Non-alcoholic soda floats will also be available!</li>\n	<li><strong>Saturday\,&nbsp\;</strong><strong>February 15th&nbsp\;</strong>&ndash\; Today marks the return of a Stout Month favorite &ndash\; <em>Kind Coffee Imperial Stout</em>\, brewed with local beans from Kind Coffee. This variation will be available on tap\, and to-go as 16oz single cans and four packs\, while supplies last.</li>\n	<li><strong>Saturday\,&nbsp\;</strong><strong>February 22nd&nbsp\;</strong>&ndash\; Last but not least &ndash\; <em>Toasted Coconut Imperial Stout</em> is back today! This variation will be available on tap\, and to-go as 16oz single cans and four packs\, while supplies last. Plus\, pair your&nbsp\;stout with a Girl Scout Cookie flight\, available all day in the taproom.</li>\n</ul>\n
LOCATION:Avant Garde Aleworks 920 Dunraven St Estes Park\, CO 80517
UID:e.3592.12126
SEQUENCE:3
DTSTAMP:20260420T184940Z
URL:https://business.esteschamber.org/events/details/stout-month-at-avant-garde-aleworks-12126
END:VEVENT

END:VCALENDAR
