BEGIN:VCALENDAR
VERSION:2.0
PRODID:-//ChamberMaster//Event Calendar 2.0//EN
METHOD:PUBLISH
X-PUBLISHED-TTL:P3D
REFRESH-INTERVAL:P3D
CALSCALE:GREGORIAN
BEGIN:VEVENT
DTSTART:20251127T180000Z
DTEND:20251128T020000Z
X-MICROSOFT-CDO-ALLDAYEVENT:FALSE
SUMMARY:Thanksgiving Day BBQ at The Barrel
DESCRIPTION:The Barrel is open on Thanksgiving Day\, and WesTex BBQ is serving up  slow-smoked meats\, tangy sauces\, and mouthwatering sides that'll satisfy every craving! Bring your appetite and your crew for a BBQ feast you won't forget. \n\nPre-Orders for smoked turkey and smoked ham are available.  Contact Wes Moore.
X-ALT-DESC;FMTTYPE=text/html:<span id="docs-internal-guid-439ed1f4-7fff-a020-2e0a-322b550ab3e4"><span style="font-size: 12pt\; font-family: Arial\, sans-serif\; color: rgb(0\, 0\, 0)\; background-color: transparent\; font-variant-numeric: normal\; font-variant-east-asian: normal\; font-variant-alternates: normal\; font-variant-position: normal\; font-variant-emoji: normal\; vertical-align: baseline\; white-space-collapse: preserve\;">The Barrel is open on Thanksgiving Day\, and WesTex BBQ is serving up&nbsp\; slow-smoked meats\, tangy sauces\, and mouthwatering sides that&rsquo\;ll satisfy every craving! Bring your appetite and your crew for a BBQ feast you won&rsquo\;t forget. </span></span><br />\n<span id="docs-internal-guid-2edbf316-7fff-cec9-952c-ce9e3f18a9d5"><span style="font-size: 12pt\; font-family: Arial\, sans-serif\; color: rgb(0\, 0\, 0)\; background-color: transparent\; font-variant-numeric: normal\; font-variant-east-asian: normal\; font-variant-alternates: normal\; font-variant-position: normal\; font-variant-emoji: normal\; vertical-align: baseline\; white-space-collapse: preserve\;">Pre-Orders for smoked turkey and smoked ham are available.&nbsp\; Contact </span><a href="https://urldefense.proofpoint.com/v2/url?u=https-3A__www.facebook.com_WesTexBBQLLC&amp\;d=DwMFaQ&amp\;c=euGZstcaTDllvimEN8b7jXrwqOf-v5A_CdpgnVfiiMM&amp\;r=PgjeFE_DJ4zYhSI4DVgMalt-V3LG8bDC5tYEwxiNFSw&amp\;m=WWjEuqL6VW-IFQqsFKq1p4jZ2JqZcFlIfu5A912V-hb88R7BrE-pNrUjlY5ahW8G&amp\;s=mcNmBLbvYemnN88eb0RId3Ly6xzLvE9UtpFCfo5ZYaQ&amp\;e=" style="text-decoration-line: none\;"><span style="font-size: 12pt\; font-family: Arial\, sans-serif\; color: rgb(17\, 85\, 204)\; background-color: transparent\; font-variant-numeric: normal\; font-variant-east-asian: normal\; font-variant-alternates: normal\; font-variant-position: normal\; font-variant-emoji: normal\; text-decoration-line: underline\; text-decoration-skip-ink: none\; vertical-align: baseline\; white-space-collapse: preserve\;">Wes Moore</span></a><span style="font-size: 12pt\; font-family: Arial\, sans-serif\; color: rgb(0\, 0\, 0)\; background-color: transparent\; font-variant-numeric: normal\; font-variant-east-asian: normal\; font-variant-alternates: normal\; font-variant-position: normal\; font-variant-emoji: normal\; vertical-align: baseline\; white-space-collapse: preserve\;">.</span></span><br />\n&nbsp\;
LOCATION:251 Moraine Ave Estes Park
UID:e.3592.13697
SEQUENCE:3
DTSTAMP:20260421T094432Z
URL:https://business.esteschamber.org/events/details/thanksgiving-day-bbq-at-the-barrel-13697
END:VEVENT

END:VCALENDAR
