BEGIN:VCALENDAR
VERSION:2.0
PRODID:-//ChamberMaster//Event Calendar 2.0//EN
METHOD:PUBLISH
X-PUBLISHED-TTL:P3D
REFRESH-INTERVAL:P3D
CALSCALE:GREGORIAN
BEGIN:VEVENT
DTSTART:20260101T030000Z
DTEND:20260101T050000Z
X-MICROSOFT-CDO-ALLDAYEVENT:FALSE
SUMMARY:Trivia at Bogey's Sports Bar
DESCRIPTION:Join us for trivia every Wednesday night starting at 8pm. Fun prizes and free to play!
X-ALT-DESC;FMTTYPE=text/html:Join us for trivia every Wednesday night starting at 8pm. Fun prizes and free to play!
LOCATION:Bogey's Sports Bar 281 W. Riverside Dr Estes Park\, CO 8517
UID:e.3592.13031
SEQUENCE:3
DTSTAMP:20260421T110003Z
URL:https://business.esteschamber.org/events/details/trivia-at-bogey-s-sports-bar-12-31-2025-13031
END:VEVENT

END:VCALENDAR
