BEGIN:VCALENDAR
VERSION:2.0
PRODID:-//ChamberMaster//Event Calendar 2.0//EN
METHOD:PUBLISH
X-PUBLISHED-TTL:P3D
REFRESH-INTERVAL:P3D
CALSCALE:GREGORIAN
BEGIN:VEVENT
DTSTART:20260521T143000Z
DTEND:20260521T160000Z
X-MICROSOFT-CDO-ALLDAYEVENT:FALSE
SUMMARY:'Un' Book Club: "Climbing Through" with Melissa Strong
DESCRIPTION:Join us for a truly special and inspiring gathering of our 'Un' Book Club\, where meaningful conversation and authentic connection take center stage. This session will feature author\, rock climber\, and restauranteur Melissa Strong\, who will guide us through the powerful themes of her book\, Climbing Through. Drawing from her personal journey and experiences\, Melissa brings a perspective that is both deeply human and highly relevant to navigating challenges in business and life.\n\nThe 'Un' Book Club meets quarterly and is designed to bring business owners together to explore pivotal topics impacting the Estes Valley business community. The goal is to learn from one another's experiences\, openly share challenges and successes\, and support each other in building stronger\, more resilient businesses.\n\nFor this session\, we will explore Climbing Through and the themes of resilience\, growth\, and pushing forward through uncertainty. Do not worry if you have not read the book. A summary will be provided\, and the conversation will focus more on the takeaways and shared experiences than the pages themselves. That is what makes it an 'Un' Book Club.\n\nCome ready to connect\, reflect\, and engage in a meaningful discussion led by an author whose story will leave you encouraged\, empowered\, and equipped to keep climbing through.\n\nYou can purchase Climbing Through at Macdonald Book Store.
X-ALT-DESC;FMTTYPE=text/html:<p data-end="503" data-start="0">Join us for a truly special and inspiring gathering of our &lsquo\;Un&rsquo\; Book Club\, where meaningful conversation and authentic connection take center stage. This session will feature author\, rock climber\, and restauranteur&nbsp\;<span class="hover:entity-accent entity-underline inline cursor-pointer align-baseline">Melissa Strong</span>\, who will guide us through the powerful themes of her book\, <em><span class="hover:entity-accent entity-underline inline cursor-pointer align-baseline">Climbing Through</span></em>. Drawing from her personal journey and experiences\, Melissa brings a perspective that is both deeply human and highly relevant to navigating challenges in business and life.</p>\n\n<p data-end="826" data-start="505">The &lsquo\;Un&rsquo\; Book Club meets quarterly and is designed to bring business owners together to explore pivotal topics impacting the Estes Valley business community. The goal is to learn from one another&rsquo\;s experiences\, openly share challenges and successes\, and support each other in building stronger\, more resilient businesses.</p>\n\n<p data-end="1176" data-start="828">For this session\, we will explore <em data-end="880" data-start="862">Climbing Through</em> and the themes of resilience\, growth\, and pushing forward through uncertainty. Do not worry if you have not read the book. A summary will be provided\, and the conversation will focus more on the takeaways and shared experiences than the pages themselves. That is what makes it an &lsquo\;Un&rsquo\; Book Club.</p>\n\n<p data-end="1353" data-is-last-node="" data-is-only-node="" data-start="1178">Come ready to connect\, reflect\, and engage in a meaningful discussion led by an author whose story will leave you encouraged\, empowered\, and equipped to keep climbing through.<br />\nYou can purchase <em>Climbing Through</em> at Macdonald Book Store.</p>\n
LOCATION:Bird's Nest 1221 High Drive Estes Park\, CO 80517
UID:e.3592.14451
SEQUENCE:3
DTSTAMP:20260422T113529Z
URL:https://business.esteschamber.org/events/details/un-book-club-climbing-through-with-melissa-strong-14451
END:VEVENT

END:VCALENDAR
