BEGIN:VCALENDAR
VERSION:2.0
PRODID:-//ChamberMaster//Event Calendar 2.0//EN
METHOD:PUBLISH
X-PUBLISHED-TTL:P3D
REFRESH-INTERVAL:P3D
CALSCALE:GREGORIAN
BEGIN:VEVENT
DTSTART:20260312T150000Z
DTEND:20260312T163000Z
X-MICROSOFT-CDO-ALLDAYEVENT:FALSE
SUMMARY:2026 Wedding\, Lodging\, Food & Beverage Alliance Meeting - March
DESCRIPTION:Come join us for our combined Wedding\, Lodging\, Food & Beverage Alliance meeting. This collaborative gathering brings together industry partners to connect\, share insights\, and strengthen our local wedding and lodging community.\n\nAttendees will hear timely updates from The Chamber and Visit Estes Park\, followed by dedicated time to share ideas\, discuss opportunities\, and brainstorm ways to support and grow our industries together. The meeting may also include a guest speaker\, offering additional perspective\, inspiration\, or resources relevant to our alliances.\n\nWe look forward to seeing you and continuing the conversation together.\n\n\n\nNew to this Meeting:\n\nFirst 15 minutes will cover updates\, guest speakers\, and need to know information. An hour will be time to dive deeper and will divide into groups and the last 15 minutes we will regroup and share what was discussed in each group.\n\n\n\nAdditional Topics:\n\nPlease reach out if there is a topic you would like covered or if you would like time to speak at the meeting.
X-ALT-DESC;FMTTYPE=text/html:<p data-end="214" data-start="0">Come join us for our combined Wedding\, Lodging\, Food &amp\; Beverage Alliance meeting. This collaborative gathering brings together industry partners to connect\, share insights\, and strengthen our local wedding and lodging community.</p>\n\n<p data-end="552" data-start="216">Attendees will hear timely updates from The Chamber and Visit Estes Park\, followed by dedicated time to share ideas\, discuss opportunities\, and brainstorm ways to support and grow our industries together. The meeting may also include a guest speaker\, offering additional perspective\, inspiration\, or resources relevant to our alliances.</p>\n\n<p data-end="655" data-is-last-node="" data-is-only-node="" data-start="554">We look forward to seeing you and continuing the conversation together.<br />\n<br />\n<strong>New to this Meeting:</strong><br />\nFirst 15 minutes will cover updates\, guest speakers\, and need to know information. An hour will be time to dive deeper and will divide into groups and the last 15 minutes we will regroup and share what was discussed in each group.<br />\n<br />\n<strong>Additional Topics:</strong><br />\nPlease reach out if there is a topic you would like covered or if you would like time to speak at the meeting.</p>\n
LOCATION:Black Canyon Inn - The Homestead Venue 800 Mac Gregor Ave. Estes Park Click below for a property map
UID:e.3592.14382
SEQUENCE:3
DTSTAMP:20260420T083334Z
URL:https://business.esteschamber.org/events/details/2026-wedding-lodging-food-beverage-alliance-meeting-march-14382
END:VEVENT

END:VCALENDAR
